BEGIN:VCALENDAR
VERSION:2.0
PRODID:-//KRDO13 Events - ECPv6.15.20//NONSGML v1.0//EN
CALSCALE:GREGORIAN
METHOD:PUBLISH
X-ORIGINAL-URL:https://events.krdo.com
X-WR-CALDESC:Events for KRDO13 Events
REFRESH-INTERVAL;VALUE=DURATION:PT1H
X-Robots-Tag:noindex
X-PUBLISHED-TTL:PT1H
BEGIN:VTIMEZONE
TZID:America/Los_Angeles
BEGIN:DAYLIGHT
TZOFFSETFROM:-0800
TZOFFSETTO:-0700
TZNAME:PDT
DTSTART:20240310T100000
END:DAYLIGHT
BEGIN:STANDARD
TZOFFSETFROM:-0700
TZOFFSETTO:-0800
TZNAME:PST
DTSTART:20241103T090000
END:STANDARD
BEGIN:DAYLIGHT
TZOFFSETFROM:-0800
TZOFFSETTO:-0700
TZNAME:PDT
DTSTART:20250309T100000
END:DAYLIGHT
BEGIN:STANDARD
TZOFFSETFROM:-0700
TZOFFSETTO:-0800
TZNAME:PST
DTSTART:20251102T090000
END:STANDARD
BEGIN:DAYLIGHT
TZOFFSETFROM:-0800
TZOFFSETTO:-0700
TZNAME:PDT
DTSTART:20260308T100000
END:DAYLIGHT
BEGIN:STANDARD
TZOFFSETFROM:-0700
TZOFFSETTO:-0800
TZNAME:PST
DTSTART:20261101T090000
END:STANDARD
END:VTIMEZONE
BEGIN:VEVENT
DTSTART;TZID=America/Los_Angeles:20250613T170000
DTEND;TZID=America/Los_Angeles:20250613T190000
DTSTAMP:20260419T200027
CREATED:20250604T144442Z
LAST-MODIFIED:20250604T144442Z
UID:6393-1749834000-1749841200@events.krdo.com
SUMMARY:Free Summer Concert Series 2025
DESCRIPTION:The Promenade Shops at Briargate presents their annual Free Summer Concert Series. Event is open to the public and takes place at the Pikes Peak Patio every Friday from 5-7p\, starting June 13th.
URL:https://events.krdo.com/event/free-summer-concert-series-2025/
LOCATION:The Promenade Shops at Briargate\, 1885 Briargate Parkway\, Colorado Springs\, 80920
CATEGORIES:Music,Shopping
ORGANIZER;CN="The Promenade Shops at Briargate":MAILTO:sschmidt@thewilbertgroup.com
END:VEVENT
END:VCALENDAR