BEGIN:VCALENDAR
VERSION:2.0
PRODID:-//KRDO13 Events - ECPv6.15.20//NONSGML v1.0//EN
CALSCALE:GREGORIAN
METHOD:PUBLISH
X-WR-CALNAME:KRDO13 Events
X-ORIGINAL-URL:https://events.krdo.com
X-WR-CALDESC:Events for KRDO13 Events
REFRESH-INTERVAL;VALUE=DURATION:PT1H
X-Robots-Tag:noindex
X-PUBLISHED-TTL:PT1H
BEGIN:VTIMEZONE
TZID:America/Los_Angeles
BEGIN:DAYLIGHT
TZOFFSETFROM:-0800
TZOFFSETTO:-0700
TZNAME:PDT
DTSTART:20250309T100000
END:DAYLIGHT
BEGIN:STANDARD
TZOFFSETFROM:-0700
TZOFFSETTO:-0800
TZNAME:PST
DTSTART:20251102T090000
END:STANDARD
BEGIN:DAYLIGHT
TZOFFSETFROM:-0800
TZOFFSETTO:-0700
TZNAME:PDT
DTSTART:20260308T100000
END:DAYLIGHT
BEGIN:STANDARD
TZOFFSETFROM:-0700
TZOFFSETTO:-0800
TZNAME:PST
DTSTART:20261101T090000
END:STANDARD
BEGIN:DAYLIGHT
TZOFFSETFROM:-0800
TZOFFSETTO:-0700
TZNAME:PDT
DTSTART:20270314T100000
END:DAYLIGHT
BEGIN:STANDARD
TZOFFSETFROM:-0700
TZOFFSETTO:-0800
TZNAME:PST
DTSTART:20271107T090000
END:STANDARD
END:VTIMEZONE
BEGIN:VTIMEZONE
TZID:America/Denver
BEGIN:DAYLIGHT
TZOFFSETFROM:-0700
TZOFFSETTO:-0600
TZNAME:MDT
DTSTART:20210314T090000
END:DAYLIGHT
BEGIN:STANDARD
TZOFFSETFROM:-0600
TZOFFSETTO:-0700
TZNAME:MST
DTSTART:20211107T080000
END:STANDARD
BEGIN:DAYLIGHT
TZOFFSETFROM:-0700
TZOFFSETTO:-0600
TZNAME:MDT
DTSTART:20220313T090000
END:DAYLIGHT
BEGIN:STANDARD
TZOFFSETFROM:-0600
TZOFFSETTO:-0700
TZNAME:MST
DTSTART:20221106T080000
END:STANDARD
BEGIN:DAYLIGHT
TZOFFSETFROM:-0700
TZOFFSETTO:-0600
TZNAME:MDT
DTSTART:20230312T090000
END:DAYLIGHT
BEGIN:STANDARD
TZOFFSETFROM:-0600
TZOFFSETTO:-0700
TZNAME:MST
DTSTART:20231105T080000
END:STANDARD
END:VTIMEZONE
BEGIN:VEVENT
DTSTART;TZID=America/Los_Angeles:20260307T173000
DTEND;TZID=America/Los_Angeles:20260307T193000
DTSTAMP:20260421T145159
CREATED:20260119T222944Z
LAST-MODIFIED:20260119T222944Z
UID:7895-1772904600-1772911800@events.krdo.com
SUMMARY:The Gala Dinner & Live Auction
DESCRIPTION:-Five-Course\, Wine-Paired Gourmet Dinner\nWith Guest Winemakers- \n\nSaturday\, March 7 | 5:30pm Reception + 6:30pm Dinner\nAt The Broadmoor – Lake Terrace Room | $225 per person \nThe Grand Finale of the 2026 Wine Festival of Colorado Springs – the Gala Wine Dinner and Live Auction is unforgettable!  The evening begins with a gourmet culinary tour-de-force dinner\, each course paired with the elegant wines of our distinguished winemakers.  The evening concludes with the region’s premier live auction of rare and one-of-a-kind collectible wines and wine-related travel and lifestyle packages.\nAttire Recommendation: Cocktail to Semi-Formal \nLake Terrace Room at The Broadmoor \n15 Lake Cir\, Colorado Springs\, CO 80906 \n  \nhttps://events.handbid.com/auctions/wine-festival-gala-and-auction-at-the-broadmoor \n  \n– No ticket refunds or exchanges – \n\nFor Sponsorship Information & Opportunities\, please email Ashley Greeno at AGreeno@csconservatory.org\nFor Grand Tasting Vendor Information (Restaurants/Caterers)\, please email winefestivalofcoloradosprings@gmail.com\n  \nHotel Discount for Wine Festival Guests\nWine Festival guests are invited to enjoy a special discounted room rate at The Broadmoor. \n\nRate: $250 per night (plus resort fee)\nAvailability: Limited number of rooms\nHow to book: Guests must call The Broadmoor directly and mention “Wine Festival 2026” when making their reservation\nReservations phone number: 855-634-7711\n\nWe encourage guests to book early\, as discounted rooms are limited and subject to availability. \n  \nAbout The Colorado Springs Conservatory:\nThe Colorado Springs Conservatory is the region’s premiere multidisciplinary performing arts school\, offering an inclusive\, joyful environment where students of all ages study music\, theatre\, and recording arts with professional mentors. CSC provides the most comprehensive arts education in the Pikes Peak region\, helping young artists grow in skill\, confidence\, and creativity. \n  \nMaking Dreams Reality for over 30 years! The premiere arts education space in Colorado Springs.
URL:https://events.krdo.com/event/the-gala-dinner-live-auction/
LOCATION:The Broadmoor\, 1 Lake Avenue\, Colorado Springs\, CO\, 80906\, United States
ATTACH;FMTTYPE=image/jpeg:https://events.krdo.com/wp-content/uploads/2026/01/The-Gala-Wine-Festival-2026.jpeg
ORGANIZER;CN="Colorado Springs Conservatory":MAILTO:csc@csconservatory.org
END:VEVENT
BEGIN:VEVENT
DTSTART;TZID=America/Los_Angeles:20260307T110000
DTEND;TZID=America/Los_Angeles:20260307T130000
DTSTAMP:20260421T145159
CREATED:20260119T221505Z
LAST-MODIFIED:20260119T221505Z
UID:7891-1772881200-1772888400@events.krdo.com
SUMMARY:Wine & Cheese: The Ultimate Match
DESCRIPTION:-Wine and Cheese Pairing Seminar- \n\nSaturday\, March 7 | 11am\nAt The Broadmoor – Main Ballroom | $85 per person \nIn this “Festival Favorite” seminar\, we will taste several wines and sample several cheeses to see if we can find the Ultimate Match.\nOur South American winemakers will be there to share their thoughts on matching their wines with certain types of cheeses. We will focus on cheeses that best complement the wines and let you know where you can purchase the cheeses used in the seminar.\nAttire Recommendation: Business Casual \nBroadmoor Hall \n15 Lake Cir\, Colorado Springs\, CO 80906 \n  \n  \nhttps://events.handbid.com/auctions/wine-and-cheese-the-perfect-pair \n  \n  \n– No ticket refunds or exchanges – \n  \nFor Sponsorship Information & Opportunities\, please email Ashley Greeno at AGreeno@csconservatory.org\nFor Grand Tasting Vendor Information (Restaurants/Caterers)\, please email winefestivalofcoloradosprings@gmail.com\n  \nHotel Discount for Wine Festival Guests\nWine Festival guests are invited to enjoy a special discounted room rate at The Broadmoor. \n\nRate: $250 per night (plus resort fee)\nAvailability: Limited number of rooms\nHow to book: Guests must call The Broadmoor directly and mention “Wine Festival 2026” when making their reservation\nReservations phone number: 855-634-7711\n\nWe encourage guests to book early\, as discounted rooms are limited and subject to availability. \n  \nAbout The Colorado Springs Conservatory:\nThe Colorado Springs Conservatory is the region’s premiere multidisciplinary performing arts school\, offering an inclusive\, joyful environment where students of all ages study music\, theatre\, and recording arts with professional mentors. CSC provides the most comprehensive arts education in the Pikes Peak region\, helping young artists grow in skill\, confidence\, and creativity. \n  \nMaking Dreams Reality for over 30 years! The premiere arts education space in Colorado Springs.
URL:https://events.krdo.com/event/wine-cheese-the-ultimate-match/
LOCATION:The Broadmoor\, 1 Lake Avenue\, Colorado Springs\, CO\, 80906\, United States
ATTACH;FMTTYPE=image/jpeg:https://events.krdo.com/wp-content/uploads/2026/01/Wine-and-Cheese-Wine-Festival-2026.jpeg
ORGANIZER;CN="Colorado Springs Conservatory":MAILTO:csc@csconservatory.org
END:VEVENT
BEGIN:VEVENT
DTSTART;TZID=America/Los_Angeles:20260306T190000
DTEND;TZID=America/Los_Angeles:20260306T210000
DTSTAMP:20260421T145159
CREATED:20260119T221236Z
LAST-MODIFIED:20260119T221236Z
UID:7885-1772823600-1772830800@events.krdo.com
SUMMARY:The Grand Tasting
DESCRIPTION:Grand Social Wine Soirée with Food & Music\nDress To Impress \n\nFriday\, March 6 | 7pm\nAt The Broadmoor – Bartolin Hall | $125 per person \nThe Grand Tasting is the most popular event of the Wine Festival of Colorado Springs — and the city’s favorite date night. This sell-out soirée invites guests to mingle with vintners and distributors\, taste more than 300 wines\, and sample culinary creations from many of the region’s finest restaurants and caterers. Sip\, savor\, and explore all evening as you enjoy live music and dance the night away. \nAttire Recommendation: Cocktail \nTHE most popular event of the Festival. This evening gives attendees the opportunity to visit with vintners and distributors\, taste a wide range of wines\, and sample the culinary creations of local restauranteurs. Sip\, Savor & Explore over 300 wines plus culinary delights from many of the region’s finest restaurants and caterers while you dance the night away. \n  \n15 Lake Cir\, Colorado Springs\, CO 80906 \n– No ticket refunds or exchanges – \n  \nhttps://events.handbid.com/auctions/grand-tasting \n\n  \nFor Sponsorship Information & Opportunities\, please email Ashley Greeno at AGreeno@csconservatory.org\nFor Grand Tasting Vendor Information (Restaurants/Caterers)\, please email winefestivalofcoloradosprings@gmail.com\n  \nHotel Discount for Wine Festival Guests\nWine Festival guests are invited to enjoy a special discounted room rate at The Broadmoor. \n\nRate: $250 per night (plus resort fee)\nAvailability: Limited number of rooms\nHow to book: Guests must call The Broadmoor directly and mention “Wine Festival 2026” when making their reservation\nReservations phone number: 855-634-7711\n\nWe encourage guests to book early\, as discounted rooms are limited and subject to availability. \nAbout The Colorado Springs Conservatory:\nThe Colorado Springs Conservatory is the region’s premiere multidisciplinary performing arts school\, offering an inclusive\, joyful environment where students of all ages study music\, theatre\, and recording arts with professional mentors. CSC provides the most comprehensive arts education in the Pikes Peak region\, helping young artists grow in skill\, confidence\, and creativity. \n  \nMaking Dreams Reality for over 30 years! The premiere arts education space in Colorado Springs.
URL:https://events.krdo.com/event/the-grand-tasting/
LOCATION:The Broadmoor\, 1 Lake Avenue\, Colorado Springs\, CO\, 80906\, United States
ATTACH;FMTTYPE=image/jpeg:https://events.krdo.com/wp-content/uploads/2026/01/Grand-Tasting-Wine-Festival-2026.jpeg
ORGANIZER;CN="Colorado Springs Conservatory":MAILTO:csc@csconservatory.org
END:VEVENT
BEGIN:VEVENT
DTSTART;TZID=America/Los_Angeles:20260306T173000
DTEND;TZID=America/Los_Angeles:20260306T193000
DTSTAMP:20260421T145159
CREATED:20260119T220940Z
LAST-MODIFIED:20260119T220940Z
UID:7880-1772818200-1772825400@events.krdo.com
SUMMARY:The Wonderful Wines of South America
DESCRIPTION:Friday\, March 6 | 5:30pm\nAt The Broadmoor – Main Ballroom | $55 per person\n\nAttire Recommendation: Business Casual to Cocktail \n1 Lake Ave\, Colorado Springs\, CO 80906 \nThis interactive wine seminar will explore the wines crafted in South America. Winemakers and special guests will be there to guide your tasting experience and discuss their wines as you sample them. You will learn why South America is such a unique winemaking region while experiencing delicious wines that are true to the region. \nThis is the ultimate way to learn about wine! \nhttps://events.handbid.com/auctions/wonderful-wines-of-south-america \n  \n– No ticket refunds or exchanges – \n  \nFor Sponsorship Information & Opportunities\, please email Ashley Greeno at AGreeno@csconservatory.org\nFor Grand Tasting Vendor Information (Restaurants/Caterers)\, please email winefestivalofcoloradosprings@gmail.com\n  \nHotel Discount for Wine Festival Guests\nWine Festival guests are invited to enjoy a special discounted room rate at The Broadmoor. \n\nRate: $250 per night (plus resort fee)\nAvailability: Limited number of rooms\nHow to book: Guests must call The Broadmoor directly and mention “Wine Festival 2026” when making their reservation\nReservations phone number: 855-634-7711\n\nWe encourage guests to book early\, as discounted rooms are limited and subject to availability. \nAbout The Colorado Springs Conservatory:\nThe Colorado Springs Conservatory is the region’s premiere multidisciplinary performing arts school\, offering an inclusive\, joyful environment where students of all ages study music\, theatre\, and recording arts with professional mentors. CSC provides the most comprehensive arts education in the Pikes Peak region\, helping young artists grow in skill\, confidence\, and creativity. \n  \nMaking Dreams Reality for over 30 years! The premiere arts education space in Colorado Springs.
URL:https://events.krdo.com/event/the-wonderful-wines-of-south-america/
LOCATION:The Broadmoor\, 1 Lake Avenue\, Colorado Springs\, CO\, 80906\, United States
ATTACH;FMTTYPE=image/jpeg:https://events.krdo.com/wp-content/uploads/2026/01/Wines-of-South-America-Wine-Festival-2026.jpeg
ORGANIZER;CN="Colorado Springs Conservatory":MAILTO:csc@csconservatory.org
END:VEVENT
BEGIN:VEVENT
DTSTART;TZID=America/Denver:20220225T180000
DTEND;TZID=America/Denver:20220225T210000
DTSTAMP:20260421T145159
CREATED:20220224T165244Z
LAST-MODIFIED:20220224T165244Z
UID:282-1645812000-1645822800@events.krdo.com
SUMMARY:Cheers! Wedding Inspiration & Fashion Show
DESCRIPTION:Something New is bringing together brides with the ultimate wedding inspiration from local vendors PLUS a fashion show at The Broadmoor!\n\n\nGrab your bride tribe and come celebrate your upcoming nuptials with Something New at The Broadmoor Destination Resort on February 25! \nGet wedding inspiration and connect with local vendors like Tina Joiner Photography and The Flying Horse Club through a vendor meet & greet with inspirational landscapes to help you envision and plan your big day! End the night with a spectacular Fashion Show by Something New showcasing our 2022 Brooklyn Grace Collection of bridal\, formal\, and tuxedo looks!  \nIn addition to the vendor social & fashion show\, there will be live music\, giveaways\, photo-ops\,  refreshments\, and  more! \n3 TICKET TYPES: \n#1: Fan — $5 ticket that includes general admission and an event T-shirt!  \n#2: Superfan — $10 ticket that includes general admission\, an event T-shirt\, AND a swag bag ($100 value of goodies)! \n#3: VIP (limited availability) — $50 ticket that includes general admission\, an event T-shirt\, a swag bag ($100 value of goodies)\, AND reserved front row seating at the Fashion Show!
URL:https://events.krdo.com/event/cheers-wedding-inspiration-fashion-show/
LOCATION:The Broadmoor\, 1 Lake Avenue\, Colorado Springs\, CO\, 80906\, United States
CATEGORIES:Fairs and Festivals
ATTACH;FMTTYPE=image/jpeg:https://events.krdo.com/wp-content/uploads/2022/02/dc7f617395fc985fa91e4acad25cdd77-T7V9Rs.tmp_.jpg
END:VEVENT
END:VCALENDAR