BEGIN:VCALENDAR
VERSION:2.0
PRODID:-//KRDO13 Events - ECPv6.15.20//NONSGML v1.0//EN
CALSCALE:GREGORIAN
METHOD:PUBLISH
X-ORIGINAL-URL:https://events.krdo.com
X-WR-CALDESC:Events for KRDO13 Events
REFRESH-INTERVAL;VALUE=DURATION:PT1H
X-Robots-Tag:noindex
X-PUBLISHED-TTL:PT1H
BEGIN:VTIMEZONE
TZID:America/Los_Angeles
BEGIN:DAYLIGHT
TZOFFSETFROM:-0800
TZOFFSETTO:-0700
TZNAME:PDT
DTSTART:20250309T100000
END:DAYLIGHT
BEGIN:STANDARD
TZOFFSETFROM:-0700
TZOFFSETTO:-0800
TZNAME:PST
DTSTART:20251102T090000
END:STANDARD
BEGIN:DAYLIGHT
TZOFFSETFROM:-0800
TZOFFSETTO:-0700
TZNAME:PDT
DTSTART:20260308T100000
END:DAYLIGHT
BEGIN:STANDARD
TZOFFSETFROM:-0700
TZOFFSETTO:-0800
TZNAME:PST
DTSTART:20261101T090000
END:STANDARD
BEGIN:DAYLIGHT
TZOFFSETFROM:-0800
TZOFFSETTO:-0700
TZNAME:PDT
DTSTART:20270314T100000
END:DAYLIGHT
BEGIN:STANDARD
TZOFFSETFROM:-0700
TZOFFSETTO:-0800
TZNAME:PST
DTSTART:20271107T090000
END:STANDARD
END:VTIMEZONE
BEGIN:VEVENT
DTSTART;TZID=America/Los_Angeles:20260605T100000
DTEND;TZID=America/Los_Angeles:20260605T180000
DTSTAMP:20260424T003215
CREATED:20260416T210543Z
LAST-MODIFIED:20260416T210543Z
UID:8685-1780653600-1780682400@events.krdo.com
SUMMARY:Pikes Peak Gem\, Mineral & Jewelry Show
DESCRIPTION:Explore a dazzling array of gems\, minerals\, fossils\, and one-of-a-kind handcrafted jewelry. Browse stunning creations from talented artisans and vendors\, dive into the fascinating worlds of mineralogy\, fossils\, jewelry making\, and rockhounding\, and perhaps discover the perfect treasure to add to your collection.\nYoung prospectors will have a blast exploring hands-on activities like gold panning with the Gold Prospectors of Colorado\, an educational scavenger hunt\, and time with our Pebble Pups group. Beading classes are offered daily at 11:00 a.m.\, with a special wire-wrapping class on Saturday at 11:00 a.m. The excitement continues all day long with silent auctions and door prize winners announced hourly—so there are plenty of chances to head home with something special.\nJoin us Friday and Saturday\, June 5 & 6\, from 10–6\, and Sunday\, June 7\, from 10–4\, at the Norris Penrose Event Center—for a fun\, family-friendly experience filled with discovery\, creativity\, and a little bit of sparkle. For more information visit our website.
URL:https://events.krdo.com/event/pikes-peak-gem-mineral-jewelry-show/2026-06-05/
LOCATION:Norris Penrose Event Center
CATEGORIES:Community,Shopping
ATTACH;FMTTYPE=image/jpeg:https://events.krdo.com/wp-content/uploads/2026/04/wrlNGrPDcUW_3hErvlAKow.large_.jpg
ORGANIZER;CN="Colorado Springs Mineralogical Society":MAILTO:ppgmjshow@gmail.com
END:VEVENT
BEGIN:VEVENT
DTSTART;TZID=America/Los_Angeles:20260606T100000
DTEND;TZID=America/Los_Angeles:20260606T180000
DTSTAMP:20260424T003215
CREATED:20260416T210544Z
LAST-MODIFIED:20260416T210544Z
UID:8688-1780740000-1780768800@events.krdo.com
SUMMARY:Pikes Peak Gem\, Mineral & Jewelry Show
DESCRIPTION:Explore a dazzling array of gems\, minerals\, fossils\, and one-of-a-kind handcrafted jewelry. Browse stunning creations from talented artisans and vendors\, dive into the fascinating worlds of mineralogy\, fossils\, jewelry making\, and rockhounding\, and perhaps discover the perfect treasure to add to your collection.\nYoung prospectors will have a blast exploring hands-on activities like gold panning with the Gold Prospectors of Colorado\, an educational scavenger hunt\, and time with our Pebble Pups group. Beading classes are offered daily at 11:00 a.m.\, with a special wire-wrapping class on Saturday at 11:00 a.m. The excitement continues all day long with silent auctions and door prize winners announced hourly—so there are plenty of chances to head home with something special.\nJoin us Friday and Saturday\, June 5 & 6\, from 10–6\, and Sunday\, June 7\, from 10–4\, at the Norris Penrose Event Center—for a fun\, family-friendly experience filled with discovery\, creativity\, and a little bit of sparkle. For more information visit our website.
URL:https://events.krdo.com/event/pikes-peak-gem-mineral-jewelry-show/2026-06-06/
LOCATION:Norris Penrose Event Center
CATEGORIES:Community,Shopping
ATTACH;FMTTYPE=image/jpeg:https://events.krdo.com/wp-content/uploads/2026/04/wrlNGrPDcUW_3hErvlAKow.large_.jpg
ORGANIZER;CN="Colorado Springs Mineralogical Society":MAILTO:ppgmjshow@gmail.com
END:VEVENT
BEGIN:VEVENT
DTSTART;TZID=America/Los_Angeles:20260607T100000
DTEND;TZID=America/Los_Angeles:20260607T160000
DTSTAMP:20260424T003215
CREATED:20260416T210544Z
LAST-MODIFIED:20260416T210544Z
UID:8689-1780826400-1780848000@events.krdo.com
SUMMARY:Pikes Peak Gem\, Mineral & Jewelry Show
DESCRIPTION:Explore a dazzling array of gems\, minerals\, fossils\, and one-of-a-kind handcrafted jewelry. Browse stunning creations from talented artisans and vendors\, dive into the fascinating worlds of mineralogy\, fossils\, jewelry making\, and rockhounding\, and perhaps discover the perfect treasure to add to your collection.\nYoung prospectors will have a blast exploring hands-on activities like gold panning with the Gold Prospectors of Colorado\, an educational scavenger hunt\, and time with our Pebble Pups group. Beading classes are offered daily at 11:00 a.m.\, with a special wire-wrapping class on Saturday at 11:00 a.m. The excitement continues all day long with silent auctions and door prize winners announced hourly—so there are plenty of chances to head home with something special.\nJoin us Friday and Saturday\, June 5 & 6\, from 10–6\, and Sunday\, June 7\, from 10–4\, at the Norris Penrose Event Center—for a fun\, family-friendly experience filled with discovery\, creativity\, and a little bit of sparkle. For more information visit our website.
URL:https://events.krdo.com/event/pikes-peak-gem-mineral-jewelry-show/2026-06-07/
LOCATION:Norris Penrose Event Center
CATEGORIES:Community,Shopping
ATTACH;FMTTYPE=image/jpeg:https://events.krdo.com/wp-content/uploads/2026/04/wrlNGrPDcUW_3hErvlAKow.large_.jpg
ORGANIZER;CN="Colorado Springs Mineralogical Society":MAILTO:ppgmjshow@gmail.com
END:VEVENT
END:VCALENDAR