BEGIN:VCALENDAR
VERSION:2.0
PRODID:-//KRDO13 Events - ECPv6.15.20//NONSGML v1.0//EN
CALSCALE:GREGORIAN
METHOD:PUBLISH
X-WR-CALNAME:KRDO13 Events
X-ORIGINAL-URL:https://events.krdo.com
X-WR-CALDESC:Events for KRDO13 Events
REFRESH-INTERVAL;VALUE=DURATION:PT1H
X-Robots-Tag:noindex
X-PUBLISHED-TTL:PT1H
BEGIN:VTIMEZONE
TZID:America/Denver
BEGIN:DAYLIGHT
TZOFFSETFROM:-0700
TZOFFSETTO:-0600
TZNAME:MDT
DTSTART:20220313T090000
END:DAYLIGHT
BEGIN:STANDARD
TZOFFSETFROM:-0600
TZOFFSETTO:-0700
TZNAME:MST
DTSTART:20221106T080000
END:STANDARD
BEGIN:DAYLIGHT
TZOFFSETFROM:-0700
TZOFFSETTO:-0600
TZNAME:MDT
DTSTART:20230312T090000
END:DAYLIGHT
BEGIN:STANDARD
TZOFFSETFROM:-0600
TZOFFSETTO:-0700
TZNAME:MST
DTSTART:20231105T080000
END:STANDARD
BEGIN:DAYLIGHT
TZOFFSETFROM:-0700
TZOFFSETTO:-0600
TZNAME:MDT
DTSTART:20240310T090000
END:DAYLIGHT
BEGIN:STANDARD
TZOFFSETFROM:-0600
TZOFFSETTO:-0700
TZNAME:MST
DTSTART:20241103T080000
END:STANDARD
END:VTIMEZONE
BEGIN:VEVENT
DTSTART;TZID=America/Denver:20230212T160000
DTEND;TZID=America/Denver:20230212T180000
DTSTAMP:20260420T213348
CREATED:20230120T135756Z
LAST-MODIFIED:20230210T151038Z
UID:1348-1676217600-1676224800@events.krdo.com
SUMMARY:Valentine's Special:Cocktails & Chocolates -Lee Spirits & Cacao Chemistry
DESCRIPTION:Join us for the sweetest Valentine’s themed event to learn about pairing spirits with chocolates!\n\n\nJoin us for a delicious evening of pairing cocktails with chocolates that have been hand-selected from our favorite\, local chocolatier shop- Cocoa Chemistry! This event is perfect for couples\, singles\, and friends! \nWhat’s included in your ticket:  \n\n4 half cocktails (for you to enjoy)\n4 chocolates (for you to eat with your cocktails)\nEducation on how to pair sweets with spirits\nRaffle prizes\nL﻿ight refreshments \n\n21+ only\, ID required. \n 
URL:https://events.krdo.com/event/valentines-specialcocktails-chocolates-lee-spirits-cacao-chemistry/
LOCATION:Brooklyn’s on Boulder Street\, 110 East Boulder Street\, Colorado Springs\, CO\, 80903\, United States
ATTACH;FMTTYPE=image/jpeg:https://events.krdo.com/wp-content/uploads/2023/01/0f809bc21a608d3a8a518f6354f66c89-zxfwFN.tmp_.jpg
END:VEVENT
END:VCALENDAR