BEGIN:VCALENDAR
VERSION:2.0
PRODID:-//KRDO13 Events - ECPv6.15.20//NONSGML v1.0//EN
CALSCALE:GREGORIAN
METHOD:PUBLISH
X-WR-CALNAME:KRDO13 Events
X-ORIGINAL-URL:https://events.krdo.com
X-WR-CALDESC:Events for KRDO13 Events
REFRESH-INTERVAL;VALUE=DURATION:PT1H
X-Robots-Tag:noindex
X-PUBLISHED-TTL:PT1H
BEGIN:VTIMEZONE
TZID:America/Los_Angeles
BEGIN:DAYLIGHT
TZOFFSETFROM:-0800
TZOFFSETTO:-0700
TZNAME:PDT
DTSTART:20250309T100000
END:DAYLIGHT
BEGIN:STANDARD
TZOFFSETFROM:-0700
TZOFFSETTO:-0800
TZNAME:PST
DTSTART:20251102T090000
END:STANDARD
BEGIN:DAYLIGHT
TZOFFSETFROM:-0800
TZOFFSETTO:-0700
TZNAME:PDT
DTSTART:20260308T100000
END:DAYLIGHT
BEGIN:STANDARD
TZOFFSETFROM:-0700
TZOFFSETTO:-0800
TZNAME:PST
DTSTART:20261101T090000
END:STANDARD
BEGIN:DAYLIGHT
TZOFFSETFROM:-0800
TZOFFSETTO:-0700
TZNAME:PDT
DTSTART:20270314T100000
END:DAYLIGHT
BEGIN:STANDARD
TZOFFSETFROM:-0700
TZOFFSETTO:-0800
TZNAME:PST
DTSTART:20271107T090000
END:STANDARD
END:VTIMEZONE
BEGIN:VEVENT
DTSTART;TZID=America/Los_Angeles:20260601T090000
DTEND;TZID=America/Los_Angeles:20260605T120000
DTSTAMP:20260421T194019
CREATED:20260409T163136Z
LAST-MODIFIED:20260409T163136Z
UID:8583-1780304400-1780660800@events.krdo.com
SUMMARY:Exploratory Devised Theatre Summer Camp
DESCRIPTION:Age Range: Exploratory – Entering 3rd – 5th Grade \nLead Mentors: Jack Branning and Dayna Cooper \nDoes your student love making up songs\, telling stories\, and soaking up the limelight on stage? If so\, Devised Theatre is the camp they’ve been waiting for! In this dynamic and collaborative week-long experience\, your student will unleash their creativity and work with experienced mentors to create a one-of-a-kind show—completely from scratch! Through engaging acting games\, improvisation challenges\, creative movement\, script development\, and imaginative play\, they’ll explore their talents while building confidence\, teamwork\, and storytelling skills. By the end of the week\, they’ll take the stage for the world premiere of their original production\, performing for friends and family in an unforgettable final showcase. Devised Theatre is more than just an acting camp—it’s a place for your child to grow\, make friends\, and discover what they’re truly capable of. Don’t wait to give them the chance to shine. Register now and let the magic begin! \nFinal Performance: Friday\, June 5th at 11am in the Developmental Lab.  \nCheck out the full Summer Camp Series here: https://coloradospringsconservatory.org/summer-day-camps/ \nAbout Colorado Springs Conservatory: The Colorado Springs Conservatory is the premier multidisciplinary arts education space in the Pikes Peak region\, where students are encouraged to find their voice and pursue their creative vision. Through performing arts education\, CSC helps shape empathetic\, confident young people prepared to make a meaningful impact in their communities. \nCSC offers a vibrant\, inclusive environment where students can explore theatre\, music\, and recording—all under one roof. With a thoughtfully designed\, age-based curriculum and expert mentors\, students are guided from their earliest experiences through high school graduation\, gaining skills that grow with them.
URL:https://events.krdo.com/event/exploratory-devised-theatre-summer-camp/
LOCATION:Colorado Springs Conservatory\, 415 S. Sahwatch St\, Colorado Springs\, 80903
CATEGORIES:Education,Theater
ATTACH;FMTTYPE=image/png:https://events.krdo.com/wp-content/uploads/2026/04/THUMBNAIL-Exploratory-Devised-Theatre-Camp.png
ORGANIZER;CN="Colorado Springs Conservatory":MAILTO:csc@csconservatory.org
END:VEVENT
BEGIN:VEVENT
DTSTART;TZID=America/Los_Angeles:20260601T090000
DTEND;TZID=America/Los_Angeles:20260605T120000
DTSTAMP:20260421T194019
CREATED:20260416T170445Z
LAST-MODIFIED:20260416T170445Z
UID:8664-1780304400-1780660800@events.krdo.com
SUMMARY:Foundational Songwriting Summer Camp
DESCRIPTION:Age Range: Foundational – Entering 6th – 8th Grade \nLead Mentors: John Rot and Alex Koshak \nCalling all up-and-coming songwriters! Join us for the best week of your summer! Over five days\, students will dive into lyric writing\, storytelling\, chord progressions and melodies\, and learn how to combine all of these into the best song possible. This is the perfect time to write your first song\, or your 100th! With the help of our Mentors\, students will write an original song which they will perform on the last day of camp. Students will leave camp with a high quality live recording of their performance. No musical experience necessary. Final Performance Friday\, June 5 at 11:30am in the Recital Hall.  \nCheck out the full Summer Camp Series here: https://coloradospringsconservatory.org/summer-day-camps/ \nAbout Colorado Springs Conservatory: The Colorado Springs Conservatory is the premier multidisciplinary arts education space in the Pikes Peak region\, where students are encouraged to find their voice and pursue their creative vision. Through performing arts education\, CSC helps shape empathetic\, confident young people prepared to make a meaningful impact in their communities. \nCSC offers a vibrant\, inclusive environment where students can explore theatre\, music\, and recording—all under one roof. With a thoughtfully designed\, age-based curriculum and expert mentors\, students are guided from their earliest experiences through high school graduation\, gaining skills that grow with them.
URL:https://events.krdo.com/event/foundational-songwriting-summer-camp/
LOCATION:Colorado Springs Conservatory\, 415 S. Sahwatch St\, Colorado Springs\, 80903
CATEGORIES:Education,Music
ATTACH;FMTTYPE=image/png:https://events.krdo.com/wp-content/uploads/2026/04/Foundational-Songwriting-Camp.png
ORGANIZER;CN="Colorado Springs Conservatory":MAILTO:csc@csconservatory.org
END:VEVENT
BEGIN:VEVENT
DTSTART;TZID=America/Los_Angeles:20260601T130000
DTEND;TZID=America/Los_Angeles:20260605T170000
DTSTAMP:20260421T194019
CREATED:20260416T170502Z
LAST-MODIFIED:20260416T170502Z
UID:8672-1780318800-1780678800@events.krdo.com
SUMMARY:Foundational and Prep Acapella Summer Camp
DESCRIPTION:Age Range: Foundational – Entering 6th – 8th Grade & Preparatory – Entering 9th – 12th Grade \nLead Mentors: Jack Branning and Bronwyn Clagett \nAre you ready to take your singing to the next level? Do you love listening to groups like Pentatonix\, Voctave\, VoicePlay or love the movie Pitch Perfect? If so\, A Capella camp is the place for you! A capella camp will bring singers together as an ensemble to work on developing vocal skills in contemporary\, pop\, and jazz styles with no instrumental accompaniment. Singers will improve their abilities to sing in harmony while also learning the art of vocal percussion (beatboxing)\, and how to arrange songs for the group\, analyze lyrics\, and use microphones to effectively amplify and blend their voices as an ensemble. The camp will conclude with a performance showcasing the a capella skills you have gained during the week as a vocal ensemble. Final Performance: Friday\, June 5th at 5pm in the Parlor. \nCheck out the full Summer Camp Series here: https://coloradospringsconservatory.org/summer-day-camps/ \nAbout Colorado Springs Conservatory: The Colorado Springs Conservatory is the premier multidisciplinary arts education space in the Pikes Peak region\, where students are encouraged to find their voice and pursue their creative vision. Through performing arts education\, CSC helps shape empathetic\, confident young people prepared to make a meaningful impact in their communities. \nCSC offers a vibrant\, inclusive environment where students can explore theatre\, music\, and recording—all under one roof. With a thoughtfully designed\, age-based curriculum and expert mentors\, students are guided from their earliest experiences through high school graduation\, gaining skills that grow with them.
URL:https://events.krdo.com/event/foundational-and-prep-acapella-summer-camp/
LOCATION:Colorado Springs Conservatory\, 415 S. Sahwatch St\, Colorado Springs\, 80903
CATEGORIES:Education,Music
ATTACH;FMTTYPE=image/png:https://events.krdo.com/wp-content/uploads/2026/04/Foundational-and-Prep-A-Capella-Camp.png
ORGANIZER;CN="Colorado Springs Conservatory":MAILTO:csc@csconservatory.org
END:VEVENT
END:VCALENDAR