BEGIN:VCALENDAR
VERSION:2.0
PRODID:-//KRDO13 Events - ECPv6.15.20//NONSGML v1.0//EN
CALSCALE:GREGORIAN
METHOD:PUBLISH
X-ORIGINAL-URL:https://events.krdo.com
X-WR-CALDESC:Events for KRDO13 Events
REFRESH-INTERVAL;VALUE=DURATION:PT1H
X-Robots-Tag:noindex
X-PUBLISHED-TTL:PT1H
BEGIN:VTIMEZONE
TZID:America/Denver
BEGIN:DAYLIGHT
TZOFFSETFROM:-0700
TZOFFSETTO:-0600
TZNAME:MDT
DTSTART:20210314T090000
END:DAYLIGHT
BEGIN:STANDARD
TZOFFSETFROM:-0600
TZOFFSETTO:-0700
TZNAME:MST
DTSTART:20211107T080000
END:STANDARD
BEGIN:DAYLIGHT
TZOFFSETFROM:-0700
TZOFFSETTO:-0600
TZNAME:MDT
DTSTART:20220313T090000
END:DAYLIGHT
BEGIN:STANDARD
TZOFFSETFROM:-0600
TZOFFSETTO:-0700
TZNAME:MST
DTSTART:20221106T080000
END:STANDARD
BEGIN:DAYLIGHT
TZOFFSETFROM:-0700
TZOFFSETTO:-0600
TZNAME:MDT
DTSTART:20230312T090000
END:DAYLIGHT
BEGIN:STANDARD
TZOFFSETFROM:-0600
TZOFFSETTO:-0700
TZNAME:MST
DTSTART:20231105T080000
END:STANDARD
BEGIN:DAYLIGHT
TZOFFSETFROM:-0700
TZOFFSETTO:-0600
TZNAME:MDT
DTSTART:20240310T090000
END:DAYLIGHT
BEGIN:STANDARD
TZOFFSETFROM:-0600
TZOFFSETTO:-0700
TZNAME:MST
DTSTART:20241103T080000
END:STANDARD
BEGIN:DAYLIGHT
TZOFFSETFROM:-0700
TZOFFSETTO:-0600
TZNAME:MDT
DTSTART:20250309T090000
END:DAYLIGHT
BEGIN:STANDARD
TZOFFSETFROM:-0600
TZOFFSETTO:-0700
TZNAME:MST
DTSTART:20251102T080000
END:STANDARD
END:VTIMEZONE
BEGIN:VEVENT
DTSTART;VALUE=DATE:20221231
DTEND;VALUE=DATE:20240101
DTSTAMP:20260425T135948
CREATED:20220224T200647Z
LAST-MODIFIED:20221004T155130Z
UID:447-1672444800-1704067199@events.krdo.com
SUMMARY:2022 Law Enforcement Appreciation Day 1M 5K 10K 13.1 26.2-Save $2
DESCRIPTION:Honoring those who serve to protect\, we are hosting our seventh annual “Law Enforcement Appreciation Day” 1m\, 5K\, 10K\, 13.1\, and 26.2\n\n\n*SIGN UP NOW FOR $16 INSTEAD OF THE REGULAR $18! \nJoin our Facebook Community of more than 23\,000 members HERE!  \nHonoring those who serve to protect\, we are hosting our seventh annual “Law Enforcement Appreciation Day” 1m\, 5K\, 10K\, 13.1\, and 26.2 mile races. National Law Enforcement Appreciation Day is January 9th\, 2022 and we invite you to complete your race anytime in 2022! \nYou choose the time\, the course\, and the pace to complete your virtual race \nCan be completed any time in 2022! \nAt least 15% of race entry fees will be donated to Concerns of Police Survivors \nIn light of recent negativity directed toward law enforcement nationally\, there is now a need to show law enforcement officers that our citizens recognize the difficult and sometimes impossible career they have chosen in public service to us all. If you want to show support to law enforcement\, our virtual races are a great way to do so. With different race distances to choose from\, there is a way for everyone to support the authorities. Whether you choose to run or walk\, run outside or on a treadmill— the choice is yours! How do our virtual races benefit law enforcement? At least 15 percent of each entry fee will be donated to Concerns of Police Survivors\, an organization that partners with law enforcement and communities to help survivors and co-workers affected by line of duty deaths. \nRace entry fee: $18 (includes a medal\, bib\, and 15% donated to C.O.P.S.) \nThe “Law Enforcement Appreciation Day” race packages will start shipping out December 15th 2021\, after that they will ship out 2 to 5 days after signing up. \nWhat is a virtual race? A virtual race is a race that can be run (or walked) from any location you choose. You can run\, jog\, or walk on the road\, on the trail\, on the treadmill\, at the gym or on the track (or even at another race). You get to run your own race\, at your own pace\, and time it yourself. Running and walking on your own\, or with friends! And your medal will be shipped directly to you. Complete a virtual 5Ks\, 10K\, half marathon and more! Each of our races benefits a different charity. We’ve already raised more than $892\,045 for charities from running events on this website! We are making a difference…one race at a time.
URL:https://events.krdo.com/event/2022-law-enforcement-appreciation-day-1m-5k-10k-13-1-26-2-save-2/
LOCATION:Around the World!\, Participate from home!\, Denver\, CO\, 80201\, United States
CATEGORIES:Community
ATTACH;FMTTYPE=image/jpeg:https://events.krdo.com/wp-content/uploads/2022/02/afb8d8a2311a61911627e65ad7f4453b-x0NqHV.tmp_.jpg
END:VEVENT
BEGIN:VEVENT
DTSTART;TZID=America/Denver:20230123T133000
DTEND;TZID=America/Denver:20231231T040000
DTSTAMP:20260425T135948
CREATED:20230126T194025Z
LAST-MODIFIED:20231229T031830Z
UID:1392-1674480600-1703995200@events.krdo.com
SUMMARY:Food Safety Works - Food Service Certification-ONLINE
DESCRIPTION:REMINDER THIS IS NOT THE CERTIFICATION FOR COTTAGE FOODS TRAINING. This is for food service workers.\n\n\nREMINDER THIS IS NOT THE CERTIFICATION FOR COTTAGE FOODS TRAINING. This is for food service workers.  \nThe Food Safety Works safe food handler certificate training teaches entry-level food workers how to safely handle\, prepare and store food. This certification is taught online and is self-guided. Participants with a passing score receive a safe food handler certificate valid for 2 years. \nBenefits for Food Service Workers: \n\nIncrease in confidence and motivation to handle food safely.\nImprove knowledge and awareness of ways to prevent foodborne illness.\nValued by employers.\nGreat incentives towards job promotions.\nBenefits for your business.\nTake pride in being proactive in preventing foodborne illness.\nIncrease consumer confidence – show that you value safety.\nIncrease employee pride and teamwork in serving food.\nIncrease likelihood of improved inspections.\n\nRegistered participants will receive a confirmation email from Eventbrite immediately after registering which will have the website address and password to access the Food Safety Works Certification materials. You can download presentation slides\, watch training video\, and access link to exam. Once exam is completed and scored you will receive an email with your certificate valid for 2 years. \nRegistration is ongoing and class can be started and completed anytime. \nAdditional classes visit: https://epcextension.eventbrite.com/ \n \nColorado State University Extension is an equal opportunity provider: https://col.st/OWMJA \n \nColorado State University Extension es un proveedor que ofrece igualdad de oportunidades. https://col.st/0WMJA
URL:https://events.krdo.com/event/food-safety-works-food-service-certification-online/
ATTACH;FMTTYPE=image/jpeg:https://events.krdo.com/wp-content/uploads/2023/01/70c4086bb02cb0e9dd2b8d57ef68d66e-AaIdkq.tmp_.jpg
END:VEVENT
BEGIN:VEVENT
DTSTART;TZID=America/Denver:20230829T100800
DTEND;TZID=America/Denver:20231230T160000
DTSTAMP:20260425T135948
CREATED:20230831T234123Z
LAST-MODIFIED:20231229T031831Z
UID:2577-1693303680-1703952000@events.krdo.com
SUMMARY:Pressure Canner Dial Gauge Testing
DESCRIPTION:Colorado State University Extension: El Paso County\n\n\nTesting your pressure canner dial gauge annually is vital in keeping your pressure canned products safe.   Gauges that read high cause under-processing and may result in unsafe food. Low readings cause over-processing.  \nYou can purchase your pressure canner gauge testing with or without The Complete Guide to Home Canning USDA Book.  \nBrands that can be tested: National\, Magic Seal\, Maid of Honor\, and Presto  \nAfter you have purchased a ticket you will be contacted to schedule a time for testing at the El Paso County Extension Office located in Colorado Springs.
URL:https://events.krdo.com/event/pressure-canner-dial-gauge-testing/
LOCATION:Colorado State University Extension\, 17 N Spruce St\, Second Floor\, Room 226\, Colorado Springs\, CO\, 80905\, United States
ATTACH;FMTTYPE=image/jpeg:https://events.krdo.com/wp-content/uploads/2023/08/0a3d306daf4f1371d6b614ff1048211f-lamY1X.tmp_.jpg
END:VEVENT
BEGIN:VEVENT
DTSTART;TZID=America/Denver:20231203T140000
DTEND;TZID=America/Denver:20231203T153000
DTSTAMP:20260425T135948
CREATED:20231020T021619Z
LAST-MODIFIED:20231110T025943Z
UID:2935-1701612000-1701617400@events.krdo.com
SUMMARY:Holiday Table Centerpiece
DESCRIPTION:Join us to make a beautiful holiday floral centerpiece with a candle to light up your home or event for parties this holiday season.\n\n\nFill your home with the scent of evergreen this season as you join Sweetwater to create your own natural arrangement. Holiday greens\, pine cones\, berries\, leaves\, apples\, a candle\, and other elements will be incorporated into your design to offer you a beautiful centerpiece to last you through this holiday season. \nFeatures of These Fun Workshops \n\nA﻿ Seat in our beautiful studio\nSmall class/gathering sizes\, lots of focus from class leader(s)\, and time for Q&As.\n\n\nEverything you’ll need to make your creation: Holiday greens\, pine cones\, berries or fruit\, tools\, containers\, etc.\n\nT﻿ickets: $135/person + tax and Eventbrite fee \n\n\nNo cancellations or refunds will be accepted but if you are unable to make it\, I will allow your spot to be transferred to someone else with 48 hours  notice. Thank you for your understanding. If you have questions or would like to request a specific scent that is not listed\, please let us know. \n \n\n\nInstructor Bio:  \nS﻿am has been in the floral business since 1996. She taught classes for 10 years at B&N and ran a book club for 5 years. She loves all things creative\, animals\, and anything whimsical.  It brings Sam great joy to teach and empower people to dream and use their own creativity.
URL:https://events.krdo.com/event/holiday-table-centerpiece/
LOCATION:Sweetwater Studio\, 11663 Voyager Parkway\, Colorado Springs\, CO\, 80921\, United States
ATTACH;FMTTYPE=image/jpeg:https://events.krdo.com/wp-content/uploads/2023/10/87bf76a75b0533a340da61ac8fbe2b75-soE0jg.tmp_.jpg
END:VEVENT
BEGIN:VEVENT
DTSTART;TZID=America/Denver:20231207T173000
DTEND;TZID=America/Denver:20231207T190000
DTSTAMP:20260425T135948
CREATED:20231020T021620Z
LAST-MODIFIED:20231110T025944Z
UID:2937-1701970200-1701975600@events.krdo.com
SUMMARY:Holiday Wreath Workshop
DESCRIPTION:Join us to make a beautiful holiday wreath made of a willow base\, Christmas greens\, pine cones\, and other dried elements.\n\n\nWith Sweetwater\, you’ll use native Colorado branches and twigs to create your own natural wreath. Holiday greens and dried floral\, and other dried elements will be woven into your wreath to offer you a long lasting beautiful wreath for your home. \nFeatures of These Fun Workshops \n\nA﻿ Seat in our beautiful studio\nSmall class/gathering sizes\, lots of focus from class leader(s)\, and time for Q&As.\n\n\nEverything you’ll need to make your creation: Dried flora\, foliage\, tools\, containers\, floral foam\, etc.\n\nT﻿ickets: $58/person + tax and Eventbrite fee \n\n\nNo cancellations or refunds will be accepted but if you are unable to make it\, I will allow your spot to be transferred to someone else with 48 hours  notice. Thank you for your understanding. If you have questions or would like to request a specific scent that is not listed\, please let us know. \n \n\n\nInstructor Bio:  \nS﻿am has been in the floral business since 1996. She taught classes for 10 years at B&N and ran a book club for 5 years. She loves all things creative\, animals\, and anything whimsical.  It brings Sam great joy to teach and empower people to dream and use their own creativity.
URL:https://events.krdo.com/event/holiday-wreath-workshop-2/
LOCATION:Sweetwater Studio\, 11663 Voyager Parkway\, Colorado Springs\, CO\, 80921\, United States
ATTACH;FMTTYPE=image/jpeg:https://events.krdo.com/wp-content/uploads/2023/10/e80258d5a3bfe1ccd26979334d7f0f25-hiYAUK.tmp_.jpg
END:VEVENT
BEGIN:VEVENT
DTSTART;TZID=America/Denver:20231208T163000
DTEND;TZID=America/Denver:20231208T180000
DTSTAMP:20260425T135948
CREATED:20231013T015702Z
LAST-MODIFIED:20231208T034201Z
UID:2869-1702053000-1702058400@events.krdo.com
SUMMARY:Country Christmas Wreath
DESCRIPTION:Join Sweetwater’s floral designer Erika for an Country Christmas Wreath workshop with hot cider and a wreath of fresh  Christmas greens.\n\n\nErika will walk participants through creating a country inspired Christmas wreath. Hot cider will be served . The wreaths will include lots of beautiful foliage\, pods\, cinnamon sticks\, dried orange slices and fresh apples and berries.  \nYou will receive: \n– Personalized Instruction on the basics of color theory\, flower care\, and the fundamentals in flower arranging. \n– All the tools and supplies for your arrangement \n– beautiful foliage\, pods\, cinnamon sticks\, dried orange slices and fresh fruit for the wreath \n–  Hot Apple Cider \n– A stunning wreath to greet all who pass your home \nT﻿ickets: $150/person + tax and Eventbrite fee \n \n\n\nNo cancellations or refunds will be accepted but if you are unable to make it\, I will allow your spot to be transferred to someone else with 48 hrs notice. Thank you for your understanding.  \n \n\n\nI﻿nstructor Bio: Erika has been part of Sweetwater Flower Market from the beginning. She loves to make things beautiful and functional and is excited to share some of the tips of the floral trade with you so you can elevate your floral designs and home.
URL:https://events.krdo.com/event/country-christmas-wreath/
LOCATION:Sweetwater Studio\, 11663 Voyager Parkway\, Colorado Springs\, CO\, 80921\, United States
ATTACH;FMTTYPE=image/jpeg:https://events.krdo.com/wp-content/uploads/2023/10/69f13993fbf4f072d9e103071b0e1a29-eJMiXu.tmp_.jpg
END:VEVENT
BEGIN:VEVENT
DTSTART;TZID=America/Denver:20231209T090000
DTEND;TZID=America/Denver:20231209T113000
DTSTAMP:20260425T135948
CREATED:20231103T014227Z
LAST-MODIFIED:20231208T022510Z
UID:2968-1702112400-1702121400@events.krdo.com
SUMMARY:Native Plant Propagation - IN PERSON
DESCRIPTION:Learn strategies adapted to home growers for propagating native plants. Methods will include seed propagation and vegetative propagation.\n\n\nPropagating native plant species can be challenging for home growers. Learn methods of stratification and scarification and how to know if a seed needs pre-treatment. We will also address basics of vegetation propagation including how to grow plants from cuttings and how to use air-layering techniques. \n This class is IN PERSON at the CSU Extension El Paso County Office.  \nThe instructor for this class is Allisa Linfield. Allisa is the Horticulture Program Coordinator for CSU Extension El Paso County. Allisa is also a graduate student at Colorado State University researching nursery container production of native plants. \n \nColorado State University does not discriminate on the basis of disability and is committed to providing reasonable accommodations. | Colorado State University no discrimina por motivos de discapacidad y se compromete a proporcionar adaptaciones razonables  \nCSU’s Office of Engagement and Extension ensures meaningful access and equal opportunities to participate to individuals whose first language is not English.| Office of Engagement and Extension de CSU garantiza acceso significativo e igualdad de oportunidades para participar a las personas quienes su primer idioma no es el inglés. \nColorado State University Extension is an equal opportunity provider.| Colorado State es un proveedor que ofrece igualdad de oportunidades \nIf you are unable to attend due to financial difficulties or if you are in need of accommodations to attend this program\, please contact elpasocohortclasses@gmail.com fourteen days in advance.
URL:https://events.krdo.com/event/native-plant-propagation-in-person/
LOCATION:Colorado State University Extension El Paso County\, 17 North Spruce Street\, 2nd Floor\, Colorado Springs\, CO\, 80905\, United States
ATTACH;FMTTYPE=image/jpeg:https://events.krdo.com/wp-content/uploads/2023/11/79a5d651fbd5123199362ad0692c9901-khCxNQ.tmp_.jpg
END:VEVENT
BEGIN:VEVENT
DTSTART;TZID=America/Denver:20231209T093000
DTEND;TZID=America/Denver:20231209T110000
DTSTAMP:20260425T135948
CREATED:20231013T015703Z
LAST-MODIFIED:20231208T034201Z
UID:2871-1702114200-1702119600@events.krdo.com
SUMMARY:Country Christmas Wreath
DESCRIPTION:Join Sweetwater’s floral designer Erika for an Country Christmas Wreath workshop with hot cider and a wreath of fresh  Christmas greens.\n\n\nErika will walk participants through creating a country inspired Christmas wreath. Hot cider will be served . The wreaths will include lots of beautiful foliage\, pods\, cinnamon sticks\, dried orange slices and fresh apples and berries.  \nYou will receive: \n– Personalized Instruction on the basics of color theory\, flower care\, and the fundamentals in flower arranging. \n– All the tools and supplies for your arrangement \n– beautiful foliage\, pods\, cinnamon sticks\, dried orange slices and fresh fruit for the wreath \n–  Hot Apple Cider \n– A stunning wreath to greet all who pass your home \nT﻿ickets: $150/person + tax and Eventbrite fee \n \n\n\nNo cancellations or refunds will be accepted but if you are unable to make it\, I will allow your spot to be transferred to someone else with 48 hrs notice. Thank you for your understanding.  \n \n\n\nI﻿nstructor Bio: Erika has been part of Sweetwater Flower Market from the beginning. She loves to make things beautiful and functional and is excited to share some of the tips of the floral trade with you so you can elevate your floral designs and home.
URL:https://events.krdo.com/event/country-christmas-wreath-2/
LOCATION:Sweetwater Studio\, 11663 Voyager Parkway\, Colorado Springs\, CO\, 80921\, United States
ATTACH;FMTTYPE=image/jpeg:https://events.krdo.com/wp-content/uploads/2023/10/6659c6d616a37b9000631da6fb3f6738-e9TL8y.tmp_.jpg
END:VEVENT
BEGIN:VEVENT
DTSTART;TZID=America/Denver:20231214T180000
DTEND;TZID=America/Denver:20231214T200000
DTSTAMP:20260425T135948
CREATED:20231013T015704Z
LAST-MODIFIED:20231208T034202Z
UID:2873-1702576800-1702584000@events.krdo.com
SUMMARY:Rustic Wood Christmas Planter Workshop
DESCRIPTION:Join Sweetwater for a Christmas Plant  Party! Decorate a wood planter and choose a Poinsettia or Christmas Cactus to pot.\n\n\nR﻿ustic Wood Christmas Planter Workshop \nJoin us for a fun and interactive Christmas Plant Party  at Sweetwater Studio! Stencil your planter with the Christmas design of your choice. Then choose between a Poinsettia or a Christmas Cactus to pot and learn all about how to care for your plant after the holidays are over.  \n*﻿Stencil photo is for an example. More options to come.  \nP﻿rice:  $60/ticket \nT﻿icket includes:  \n-﻿ A seat in our beautiful studio \n-﻿ A new Poinsettia or Christmas Cactus plant for you to take home \n-﻿ A personalized wood planter \n-﻿ Planting soil \n-﻿ All the materials to design your pot \n-﻿ Instruction on plant care \n-﻿ Q/A on Plants \n-﻿ A wonderful memorable experience and a gorgeous new plant for your home.  \n\n\nCancellation Policy:  \nNo cancellations or refunds will be accepted but if you are unable to make it\, we will allow your spot to be transferred to someone else with 48 hrs notice. Thank you for your understanding.  \n\n\nPotted Consultant Bio:  \nHi! My name is Beth. I live in the Colorado Springs area and have a deep love of all things houseplants! What started out as a hobby turned into the desire to help others achieve their own houseplant jungle dreams and Potted was created. I offer plant consulting\, sitting\, classes and care services in the Colorado Springs area.
URL:https://events.krdo.com/event/rustic-wood-christmas-planter-workshop/
LOCATION:Sweetwater Studio\, 11663 Voyager Parkway\, Colorado Springs\, CO\, 80921\, United States
ATTACH;FMTTYPE=image/jpeg:https://events.krdo.com/wp-content/uploads/2023/10/de6e2419f378da02c6ba5830d212c2f6-r620uG.tmp_.jpg
END:VEVENT
BEGIN:VEVENT
DTSTART;TZID=America/Denver:20231215T163000
DTEND;TZID=America/Denver:20231215T180000
DTSTAMP:20260425T135948
CREATED:20231013T015705Z
LAST-MODIFIED:20231208T034202Z
UID:2875-1702657800-1702663200@events.krdo.com
SUMMARY:Country Christmas Wreath
DESCRIPTION:Join Sweetwater’s floral designer Erika for an Country Christmas Wreath workshop with hot cider and a wreath of fresh  Christmas greens.\n\n\nErika will walk participants through creating a country inspired Christmas wreath. Hot cider will be served . The wreaths will include lots of beautiful foliage\, pods\, cinnamon sticks\, dried orange slices and fresh apples and berries.  \nYou will receive: \n– Personalized Instruction on the basics of color theory\, flower care\, and the fundamentals in flower arranging. \n– All the tools and supplies for your arrangement \n– beautiful foliage\, pods\, cinnamon sticks\, dried orange slices and fresh fruit for the wreath \n–  Hot Apple Cider \n– A stunning wreath to greet all who pass your home \nT﻿ickets: $150/person + tax and Eventbrite fee \n \n\n\nNo cancellations or refunds will be accepted but if you are unable to make it\, I will allow your spot to be transferred to someone else with 48 hrs notice. Thank you for your understanding.  \n \n\n\nI﻿nstructor Bio: Erika has been part of Sweetwater Flower Market from the beginning. She loves to make things beautiful and functional and is excited to share some of the tips of the floral trade with you so you can elevate your floral designs and home.
URL:https://events.krdo.com/event/copy-of-country-christmas-wreath/
LOCATION:Sweetwater Studio\, 11663 Voyager Parkway\, Colorado Springs\, CO\, 80921\, United States
ATTACH;FMTTYPE=image/jpeg:https://events.krdo.com/wp-content/uploads/2023/10/6659c6d616a37b9000631da6fb3f6738-e9TL8y.tmp_.jpg
END:VEVENT
BEGIN:VEVENT
DTSTART;TZID=America/Denver:20231216T093000
DTEND;TZID=America/Denver:20231216T110000
DTSTAMP:20260425T135948
CREATED:20231013T015706Z
LAST-MODIFIED:20231208T034203Z
UID:2877-1702719000-1702724400@events.krdo.com
SUMMARY:Country Christmas Wreath
DESCRIPTION:Join Sweetwater’s floral designer Erika for an Country Christmas Wreath workshop with hot cider and a wreath of fresh  Christmas greens.\n\n\nErika will walk participants through creating a country inspired Christmas wreath. Hot cider will be served . The wreaths will include lots of beautiful foliage\, pods\, cinnamon sticks\, dried orange slices and fresh apples and berries.  \nYou will receive: \n– Personalized Instruction on the basics of color theory\, flower care\, and the fundamentals in flower arranging. \n– All the tools and supplies for your arrangement \n– beautiful foliage\, pods\, cinnamon sticks\, dried orange slices and fresh fruit for the wreath \n–  Hot Apple Cider \n– A stunning wreath to greet all who pass your home \nT﻿ickets: $150/person + tax and Eventbrite fee \n \n\n\nNo cancellations or refunds will be accepted but if you are unable to make it\, I will allow your spot to be transferred to someone else with 48 hrs notice. Thank you for your understanding.  \n \n\n\nI﻿nstructor Bio: Erika has been part of Sweetwater Flower Market from the beginning. She loves to make things beautiful and functional and is excited to share some of the tips of the floral trade with you so you can elevate your floral designs and home.
URL:https://events.krdo.com/event/copy-of-country-christmas-wreath-2/
LOCATION:Sweetwater Studio\, 11663 Voyager Parkway\, Colorado Springs\, CO\, 80921\, United States
ATTACH;FMTTYPE=image/jpeg:https://events.krdo.com/wp-content/uploads/2023/10/6659c6d616a37b9000631da6fb3f6738-e9TL8y.tmp_.jpg
END:VEVENT
BEGIN:VEVENT
DTSTART;TZID=America/Denver:20231217T173000
DTEND;TZID=America/Denver:20231217T193000
DTSTAMP:20260425T135948
CREATED:20231020T021623Z
LAST-MODIFIED:20231208T034203Z
UID:2939-1702834200-1702841400@events.krdo.com
SUMMARY:A Very Charcuterie Christmas Chalet
DESCRIPTION:Learn to make some of your own Christmas magic by crafting a Charcuterie Christmas Chalet\n\n\nI﻿n this workshop\, you will learn tips and tricks on how to artfully arrange a charcuterie board in the shape of a winter Chalet. Charcuterie is the art taking deli meats and cheeses and styling them into an elegant appetizer or meal.  We will be using salami\, pretzels\, sugard berries\, and other dried fruit\, cheese\, and herbs to construct a chalet that is both tasty and with all the charm of an old time Christmas.  \nCost ﻿includes: \n– All supplies to make a charcuterie Christmas Chalet. \n– Instruction on pairing cheeses and designing your board.  \n– Hands on modeling of how to make 3 dimensional designs with your meats and cheeses to add interest and fun.  \nWorkshop will be in our charming Studio located off of Voyager.  \nTickets: $105/person + Tax and Eventbrite fee \n \n\n\nInstructor bio: I’m Christal\, owner and passionate food artist of Amazing Graze Catering\, Co.  \nI love crafting delicious boards\, desserts and meals for my community and I can’t wait to meet (and feed) you next! \n \n\n\nNo cancellations or refunds will be accepted but if you are unable to make it\, I will allow your spot to be transferred to someone else with 48 hrs notice. Thank you for your understanding. 
URL:https://events.krdo.com/event/a-very-charcuterie-christmas-chalet/
LOCATION:Sweetwater Studio\, 11663 Voyager Parkway\, Colorado Springs\, CO\, 80921\, United States
ATTACH;FMTTYPE=image/jpeg:https://events.krdo.com/wp-content/uploads/2023/10/cbfffbc4a9f20c13c04e0fdc340e7f52-AfQPUH.tmp_.jpg
END:VEVENT
BEGIN:VEVENT
DTSTART;TZID=America/Denver:20231231T213000
DTEND;TZID=America/Denver:20240101T020000
DTSTAMP:20260425T135948
CREATED:20231215T201208Z
LAST-MODIFIED:20231222T201431Z
UID:3127-1704058200-1704074400@events.krdo.com
SUMMARY:New Years Eve! The Prohibition way... 20's Style
DESCRIPTION:Join us for our 1920s Prohibition-inspired New Year’s Eve.\n\n\nJoin us for our 1920’s Prohibition-inspired hassle-free New Year’s Eve. \nHate the crowds on one of the biggest nights of the year?  \nWant to hit the town with friends and have a great time all night?  \nTired of going to NYE events and it takes 30 minutes to get a drink or food\, or both!? \nUs too! \nWell then\, come party with us like its 1920\, we are celebrating with all the glitz and glamour – while not being packed in a like a department store on Black Friday. (20’s attire encouraged) \nFAQs \nWhat does a ticket actually get me?  \n-A ticket is valid for entry  \n-Your first cocktail \n-a midnight toast cocktail \n-Raffles every hour on the hour \n-1920’s trivia to win prizes \n-Other specials if you are with your friends in our booths\, Mirror chairs\, or Bookcase seats \n-and other surprises that we can’t share yet – you’ll have to just be here to find out. \nAge limit to enter the event?  \n21+ only. \nWhat about Parking?  \nPublic parking downtown is all around the building and will go fast\, plan to get there early or take Uber or Lyft (which we highly recommend).  \nDo I have to bring my printed ticket?  \nIf you want\, but not necessary\, online check-in will be at the door.  \nJoin our secret text club! \nText “Join” to 719-415-3115
URL:https://events.krdo.com/event/new-years-eve-the-prohibition-way-20s-style-2/
LOCATION:Brooklyn’s on Boulder St.\, 110 E Boulder St.\, Colorado Springs\, CO\, 80903\, United States
ATTACH;FMTTYPE=image/jpeg:https://events.krdo.com/wp-content/uploads/2023/12/f5d478f8e4a5ea4e002c5d698235eb6e-EfcVjo.tmp_.jpg
END:VEVENT
END:VCALENDAR