BEGIN:VCALENDAR
VERSION:2.0
PRODID:-//KRDO13 Events - ECPv6.15.20//NONSGML v1.0//EN
CALSCALE:GREGORIAN
METHOD:PUBLISH
X-WR-CALNAME:KRDO13 Events
X-ORIGINAL-URL:https://events.krdo.com
X-WR-CALDESC:Events for KRDO13 Events
REFRESH-INTERVAL;VALUE=DURATION:PT1H
X-Robots-Tag:noindex
X-PUBLISHED-TTL:PT1H
BEGIN:VTIMEZONE
TZID:America/Los_Angeles
BEGIN:DAYLIGHT
TZOFFSETFROM:-0800
TZOFFSETTO:-0700
TZNAME:PDT
DTSTART:20210314T100000
END:DAYLIGHT
BEGIN:STANDARD
TZOFFSETFROM:-0700
TZOFFSETTO:-0800
TZNAME:PST
DTSTART:20211107T090000
END:STANDARD
BEGIN:DAYLIGHT
TZOFFSETFROM:-0800
TZOFFSETTO:-0700
TZNAME:PDT
DTSTART:20220313T100000
END:DAYLIGHT
BEGIN:STANDARD
TZOFFSETFROM:-0700
TZOFFSETTO:-0800
TZNAME:PST
DTSTART:20221106T090000
END:STANDARD
BEGIN:DAYLIGHT
TZOFFSETFROM:-0800
TZOFFSETTO:-0700
TZNAME:PDT
DTSTART:20230312T100000
END:DAYLIGHT
BEGIN:STANDARD
TZOFFSETFROM:-0700
TZOFFSETTO:-0800
TZNAME:PST
DTSTART:20231105T090000
END:STANDARD
BEGIN:DAYLIGHT
TZOFFSETFROM:-0800
TZOFFSETTO:-0700
TZNAME:PDT
DTSTART:20240310T100000
END:DAYLIGHT
BEGIN:STANDARD
TZOFFSETFROM:-0700
TZOFFSETTO:-0800
TZNAME:PST
DTSTART:20241103T090000
END:STANDARD
BEGIN:DAYLIGHT
TZOFFSETFROM:-0800
TZOFFSETTO:-0700
TZNAME:PDT
DTSTART:20250309T100000
END:DAYLIGHT
BEGIN:STANDARD
TZOFFSETFROM:-0700
TZOFFSETTO:-0800
TZNAME:PST
DTSTART:20251102T090000
END:STANDARD
BEGIN:DAYLIGHT
TZOFFSETFROM:-0800
TZOFFSETTO:-0700
TZNAME:PDT
DTSTART:20260308T100000
END:DAYLIGHT
BEGIN:STANDARD
TZOFFSETFROM:-0700
TZOFFSETTO:-0800
TZNAME:PST
DTSTART:20261101T090000
END:STANDARD
BEGIN:DAYLIGHT
TZOFFSETFROM:-0800
TZOFFSETTO:-0700
TZNAME:PDT
DTSTART:20270314T100000
END:DAYLIGHT
BEGIN:STANDARD
TZOFFSETFROM:-0700
TZOFFSETTO:-0800
TZNAME:PST
DTSTART:20271107T090000
END:STANDARD
END:VTIMEZONE
BEGIN:VTIMEZONE
TZID:America/Denver
BEGIN:DAYLIGHT
TZOFFSETFROM:-0700
TZOFFSETTO:-0600
TZNAME:MDT
DTSTART:20210314T090000
END:DAYLIGHT
BEGIN:STANDARD
TZOFFSETFROM:-0600
TZOFFSETTO:-0700
TZNAME:MST
DTSTART:20211107T080000
END:STANDARD
BEGIN:DAYLIGHT
TZOFFSETFROM:-0700
TZOFFSETTO:-0600
TZNAME:MDT
DTSTART:20220313T090000
END:DAYLIGHT
BEGIN:STANDARD
TZOFFSETFROM:-0600
TZOFFSETTO:-0700
TZNAME:MST
DTSTART:20221106T080000
END:STANDARD
BEGIN:DAYLIGHT
TZOFFSETFROM:-0700
TZOFFSETTO:-0600
TZNAME:MDT
DTSTART:20230312T090000
END:DAYLIGHT
BEGIN:STANDARD
TZOFFSETFROM:-0600
TZOFFSETTO:-0700
TZNAME:MST
DTSTART:20231105T080000
END:STANDARD
END:VTIMEZONE
BEGIN:VEVENT
DTSTART;TZID=America/Los_Angeles:20260418T180000
DTEND;TZID=America/Los_Angeles:20260418T210000
DTSTAMP:20260424T040135
CREATED:20260325T152824Z
LAST-MODIFIED:20260325T152824Z
UID:8383-1776535200-1776546000@events.krdo.com
SUMMARY:Golden Hour Gala
DESCRIPTION:We invite you to join us in an elegant evening of celebration\, community\, and giving\, as we honor the bright futures of our youngest learners. \nCocktail attire encouraged. A little sparkle welcome. \nSilent Auction – Hors d’oeuvre – Cash Bar – Music – Dancing \nAll proceeds to benefit Ruth Washburn Cooperative Nursery School.
URL:https://events.krdo.com/event/golden-hour-gala/
LOCATION:The Antlers Hotel\, 4 S Cascade Ave\, Colorado Springs\, CO
CATEGORIES:Education,Fundraisers and Galas
ATTACH;FMTTYPE=image/png:https://events.krdo.com/wp-content/uploads/2026/03/Shining-Star-Celebration-QR.png
ORGANIZER;CN="Ruth Washburn Cooperative Nursery School":MAILTO:director@rwcns.org
END:VEVENT
BEGIN:VEVENT
DTSTART;TZID=America/Los_Angeles:20260408T170000
DTEND;TZID=America/Los_Angeles:20260408T200000
DTSTAMP:20260424T040135
CREATED:20260320T172233Z
LAST-MODIFIED:20260323T180221Z
UID:8330-1775667600-1775678400@events.krdo.com
SUMMARY:Spring Fling Fundraiser
DESCRIPTION:Celebrate the arrival of spring with an evening of music\, community and support for the vocal arts at the Pikes Peak Opera League Spring Fling Fundraiser on Wednesday\, April 8 from 5:00–8:00 p.m. at The Pinery at the Hill in downtown Colorado Springs. \nThis lively annual event brings together arts supporters for an intimate performance featuring soprano Kate Johnson\, baritone Chad Reagan\, and collaborating pianist Christy Vest. Together\, these accomplished musicians will present a program of beloved vocal works in a warm and welcoming setting. \nGuests will enjoy a delicious appetizer buffet\, the chance to connect with fellow music lovers\, and a memorable evening celebrating the power of live performance. Beverages will be available for purchase. \nProceeds from the Spring Fling Fundraiser will benefit PPOL’s Scholarship Fund. \nTickets are $75 for PPOL members and $85 for nonmembers and may be purchased online. Space is limited\, and early reservations are encouraged. Registration closes and all ticket payments must be collected by April 3rd. \nThe event is generously sponsored by The Disque Family Foundation\, Doug and Dianne Herzberg\, Sally Sharpe\, Nicole de Naray\, Sue Anselmi\, and Mary Koepp. \nAbout the Pikes Peak Opera League – Pikes Peak Opera League’s mission is to promote knowledge and appreciation of opera\, musical theatre and vocal arts\, to encourage and support aspiring and professional opera and musical theatre artists\, and to support Opera Theatre of the Rockies and other regional opera\, classical and vocal arts organizations.
URL:https://events.krdo.com/event/spring-fling-fundraiser/
LOCATION:The Pinery at the Hill\, 775 W Bijou St\, Colorado Springs\, 80905
CATEGORIES:Community,Fundraisers and Galas,Music
ATTACH;FMTTYPE=image/png:https://events.krdo.com/wp-content/uploads/2026/03/PPOL-Event-Banner-for-Wix-980-x-552.png
END:VEVENT
BEGIN:VEVENT
DTSTART;TZID=America/Los_Angeles:20251101T160000
DTEND;TZID=America/Los_Angeles:20251101T213000
DTSTAMP:20260424T040135
CREATED:20250912T192712Z
LAST-MODIFIED:20250912T192712Z
UID:7022-1762012800-1762032600@events.krdo.com
SUMMARY:Born to Be Wild 2025 Gala - 30 Years of Cloud!
DESCRIPTION:Join The Cloud Foundation for Born to Be Wild 2025—an unforgettable evening of celebration\, advocacy\, and wild horse & burro magic!\n\nHeld at the historic Flying W Ranch in Colorado Springs on Saturday\, November 1st from 4:00–9:30 PM\, this family-friendly gala supports the protection of wild horses and burros on our public lands. \nEnjoy a chuckwagon dinner\, silent and live auctions\, a parade of formerly wild equines\, youth activities\, live music and dancing with the Flying W Wranglers\, and guest appearances by wild horse advocates and celebrities like filmmaker Ginger Kathrens (Cloud Wild Stallion of the Rockies) and actor Adam Bartley (Longmire\, This is Us). \nMeet real-life mustangs\, including members of Cloud’s family\, and help raise critical funds to keep wild horses and burros wild and free! \nThe Cloud Foundation is a 501c3 non-profit organization that works to protect and preserve America’s wild horses and burros on our public lands through education and advocacy.
URL:https://events.krdo.com/event/born-to-be-wild-2025-gala-30-years-of-cloud/
LOCATION:flying w ranch\, 3330 Chuckwagon Road\, Colorado Springs\, 80919
CATEGORIES:Community,Education,Food and Drink,Fundraisers and Galas,Music,Other,Shopping
ATTACH;FMTTYPE=image/png:https://events.krdo.com/wp-content/uploads/2025/09/BTBW-20th_JOIN-US_FBv2.png
ORGANIZER;CN="The Cloud Foundation":MAILTO:info@thecloudfoundation.org
END:VEVENT
BEGIN:VEVENT
DTSTART;TZID=America/Los_Angeles:20250522T090000
DTEND;TZID=America/Los_Angeles:20250522T170000
DTSTAMP:20260424T040135
CREATED:20250513T184204Z
LAST-MODIFIED:20250513T184204Z
UID:6199-1747904400-1747933200@events.krdo.com
SUMMARY:Disabled American Veterans 103rd Annual Convention
DESCRIPTION:The Disabled American Veterans will be hosting its 103rd Annual DAV (Disabled American Veterans) Convention which will be held on May 20-22nd at The Embassy Suites in Colorado Springs. The start time is 11 am until 3 pm. \nStarting May 20th\, the Disabled American Veterans will be having a Veterans & Military Expo and Appreciation Event! There will be over 20 Veterans Service Organizations and Resource support tables for veterans and their families. \nThere will be Native American dancing\, a woodcarving demonstration\, souvenirs and t-shirts. \nResource tables include Benefit Claims and initial intakes\, The Honor Bell\, Color Guards\, Veterans Memorials and Foundations\, all sharing valuable information. \nPresentations\, Meet & Greet with Local/State and National Disabled American Veterans and other VSO Officers\, which will be available for interviews. \nOn May 21-22nd our resource tables remain available as the Convention will be charting the course for how the state will serve its veterans throughout the year. \nOur mission is to provide our heroes with the care\, resources and support they need to regain their independence and live fulfilling lives. We are dedicated to a single purpose; empowering veterans and their families to lead high quality lives with respect and dignity. \nWe thank you for helping us spread the word about our event. We are a non-profit group and closely tied to our heroes to help them continue to receive all of the benefits that they fought for. \nSincerely\, \nStacy Smith \nDisabled American Veterans Department of Colorado \n1485 Holland Street \nLakewood\, CO 80215 \n303-922-3631 X.6
URL:https://events.krdo.com/event/disabled-american-veterans-103rd-annual-convention/2025-05-22/3/
LOCATION:Embassy Suites\, 7290 Commerce Center Dr.\, Colorado Springs\, CO\, 80215\, United States
CATEGORIES:Fundraisers and Galas
ORGANIZER;CN="The":MAILTO:stacy@davcolorado.org
END:VEVENT
BEGIN:VEVENT
DTSTART;VALUE=DATE:20250522
DTEND;VALUE=DATE:20250523
DTSTAMP:20260424T040135
CREATED:20250513T184204Z
LAST-MODIFIED:20250513T184204Z
UID:6198-1747872000-1747958399@events.krdo.com
SUMMARY:Disabled American Veterans 103rd Annual Convention
DESCRIPTION:The Disabled American Veterans will be hosting its 103rd Annual DAV (Disabled American Veterans) Convention which will be held on May 20-22nd at The Embassy Suites in Colorado Springs. The start time is 11 am until 3 pm. \nStarting May 20th\, the Disabled American Veterans will be having a Veterans & Military Expo and Appreciation Event! There will be over 20 Veterans Service Organizations and Resource support tables for veterans and their families. \nThere will be Native American dancing\, a woodcarving demonstration\, souvenirs and t-shirts. \nResource tables include Benefit Claims and initial intakes\, The Honor Bell\, Color Guards\, Veterans Memorials and Foundations\, all sharing valuable information. \nPresentations\, Meet & Greet with Local/State and National Disabled American Veterans and other VSO Officers\, which will be available for interviews. \nOn May 21-22nd our resource tables remain available as the Convention will be charting the course for how the state will serve its veterans throughout the year. \nOur mission is to provide our heroes with the care\, resources and support they need to regain their independence and live fulfilling lives. We are dedicated to a single purpose; empowering veterans and their families to lead high quality lives with respect and dignity. \nWe thank you for helping us spread the word about our event. We are a non-profit group and closely tied to our heroes to help them continue to receive all of the benefits that they fought for. \nSincerely\, \nStacy Smith \nDisabled American Veterans Department of Colorado \n1485 Holland Street \nLakewood\, CO 80215 \n303-922-3631 X.6
URL:https://events.krdo.com/event/disabled-american-veterans-103rd-annual-convention/2025-05-22/
LOCATION:Embassy Suites\, 7290 Commerce Center Dr.\, Colorado Springs\, CO\, 80215\, United States
CATEGORIES:Fundraisers and Galas
ORGANIZER;CN="The":MAILTO:stacy@davcolorado.org
END:VEVENT
BEGIN:VEVENT
DTSTART;TZID=America/Los_Angeles:20250521T090000
DTEND;TZID=America/Los_Angeles:20250521T170000
DTSTAMP:20260424T040135
CREATED:20250513T184203Z
LAST-MODIFIED:20250513T184203Z
UID:6197-1747818000-1747846800@events.krdo.com
SUMMARY:Disabled American Veterans 103rd Annual Convention
DESCRIPTION:The Disabled American Veterans will be hosting its 103rd Annual DAV (Disabled American Veterans) Convention which will be held on May 20-22nd at The Embassy Suites in Colorado Springs. The start time is 11 am until 3 pm. \nStarting May 20th\, the Disabled American Veterans will be having a Veterans & Military Expo and Appreciation Event! There will be over 20 Veterans Service Organizations and Resource support tables for veterans and their families. \nThere will be Native American dancing\, a woodcarving demonstration\, souvenirs and t-shirts. \nResource tables include Benefit Claims and initial intakes\, The Honor Bell\, Color Guards\, Veterans Memorials and Foundations\, all sharing valuable information. \nPresentations\, Meet & Greet with Local/State and National Disabled American Veterans and other VSO Officers\, which will be available for interviews. \nOn May 21-22nd our resource tables remain available as the Convention will be charting the course for how the state will serve its veterans throughout the year. \nOur mission is to provide our heroes with the care\, resources and support they need to regain their independence and live fulfilling lives. We are dedicated to a single purpose; empowering veterans and their families to lead high quality lives with respect and dignity. \nWe thank you for helping us spread the word about our event. We are a non-profit group and closely tied to our heroes to help them continue to receive all of the benefits that they fought for. \nSincerely\, \nStacy Smith \nDisabled American Veterans Department of Colorado \n1485 Holland Street \nLakewood\, CO 80215 \n303-922-3631 X.6
URL:https://events.krdo.com/event/disabled-american-veterans-103rd-annual-convention/2025-05-21/2/
LOCATION:Embassy Suites\, 7290 Commerce Center Dr.\, Colorado Springs\, CO\, 80215\, United States
CATEGORIES:Fundraisers and Galas
ORGANIZER;CN="The":MAILTO:stacy@davcolorado.org
END:VEVENT
BEGIN:VEVENT
DTSTART;VALUE=DATE:20250521
DTEND;VALUE=DATE:20250522
DTSTAMP:20260424T040135
CREATED:20250513T184202Z
LAST-MODIFIED:20250513T184202Z
UID:6196-1747785600-1747871999@events.krdo.com
SUMMARY:Disabled American Veterans 103rd Annual Convention
DESCRIPTION:The Disabled American Veterans will be hosting its 103rd Annual DAV (Disabled American Veterans) Convention which will be held on May 20-22nd at The Embassy Suites in Colorado Springs. The start time is 11 am until 3 pm. \nStarting May 20th\, the Disabled American Veterans will be having a Veterans & Military Expo and Appreciation Event! There will be over 20 Veterans Service Organizations and Resource support tables for veterans and their families. \nThere will be Native American dancing\, a woodcarving demonstration\, souvenirs and t-shirts. \nResource tables include Benefit Claims and initial intakes\, The Honor Bell\, Color Guards\, Veterans Memorials and Foundations\, all sharing valuable information. \nPresentations\, Meet & Greet with Local/State and National Disabled American Veterans and other VSO Officers\, which will be available for interviews. \nOn May 21-22nd our resource tables remain available as the Convention will be charting the course for how the state will serve its veterans throughout the year. \nOur mission is to provide our heroes with the care\, resources and support they need to regain their independence and live fulfilling lives. We are dedicated to a single purpose; empowering veterans and their families to lead high quality lives with respect and dignity. \nWe thank you for helping us spread the word about our event. We are a non-profit group and closely tied to our heroes to help them continue to receive all of the benefits that they fought for. \nSincerely\, \nStacy Smith \nDisabled American Veterans Department of Colorado \n1485 Holland Street \nLakewood\, CO 80215 \n303-922-3631 X.6
URL:https://events.krdo.com/event/disabled-american-veterans-103rd-annual-convention/2025-05-21/
LOCATION:Embassy Suites\, 7290 Commerce Center Dr.\, Colorado Springs\, CO\, 80215\, United States
CATEGORIES:Fundraisers and Galas
ORGANIZER;CN="The":MAILTO:stacy@davcolorado.org
END:VEVENT
BEGIN:VEVENT
DTSTART;VALUE=DATE:20250520
DTEND;VALUE=DATE:20250521
DTSTAMP:20260424T040135
CREATED:20250513T184202Z
LAST-MODIFIED:20250513T184202Z
UID:6193-1747699200-1747785599@events.krdo.com
SUMMARY:Disabled American Veterans 103rd Annual Convention
DESCRIPTION:The Disabled American Veterans will be hosting its 103rd Annual DAV (Disabled American Veterans) Convention which will be held on May 20-22nd at The Embassy Suites in Colorado Springs. The start time is 11 am until 3 pm. \nStarting May 20th\, the Disabled American Veterans will be having a Veterans & Military Expo and Appreciation Event! There will be over 20 Veterans Service Organizations and Resource support tables for veterans and their families. \nThere will be Native American dancing\, a woodcarving demonstration\, souvenirs and t-shirts. \nResource tables include Benefit Claims and initial intakes\, The Honor Bell\, Color Guards\, Veterans Memorials and Foundations\, all sharing valuable information. \nPresentations\, Meet & Greet with Local/State and National Disabled American Veterans and other VSO Officers\, which will be available for interviews. \nOn May 21-22nd our resource tables remain available as the Convention will be charting the course for how the state will serve its veterans throughout the year. \nOur mission is to provide our heroes with the care\, resources and support they need to regain their independence and live fulfilling lives. We are dedicated to a single purpose; empowering veterans and their families to lead high quality lives with respect and dignity. \nWe thank you for helping us spread the word about our event. We are a non-profit group and closely tied to our heroes to help them continue to receive all of the benefits that they fought for. \nSincerely\, \nStacy Smith \nDisabled American Veterans Department of Colorado \n1485 Holland Street \nLakewood\, CO 80215 \n303-922-3631 X.6
URL:https://events.krdo.com/event/disabled-american-veterans-103rd-annual-convention/2025-05-20/
LOCATION:Embassy Suites\, 7290 Commerce Center Dr.\, Colorado Springs\, CO\, 80215\, United States
CATEGORIES:Fundraisers and Galas
ORGANIZER;CN="The":MAILTO:stacy@davcolorado.org
END:VEVENT
BEGIN:VEVENT
DTSTART;TZID=America/Los_Angeles:20250405T190000
DTEND;TZID=America/Los_Angeles:20250405T230000
DTSTAMP:20260424T040135
CREATED:20250218T153536Z
LAST-MODIFIED:20250218T153536Z
UID:5566-1743879600-1743894000@events.krdo.com
SUMMARY:Angels Against Alzheimer's Annual Fundraiser
DESCRIPTION:Casino Night supporting Angels Against Alzheimer’s.  Blackjack\, Roulette\, Poker Craps and Tipsy Toss.  All money raised from this event stays locally in El Paso County.  Tickets include food\, music and dancing.  Casino chips are extra.
URL:https://events.krdo.com/event/angels-against-alzheimers-annual-fundraiser/
LOCATION:DoubleTree by Hilton Hotel Colorado Springs\, 1775 East Cheyenne Mountain Boulevard\, Colorado Springs\, CO\, 80906\, United States
CATEGORIES:Community,Food and Drink,Fundraisers and Galas,Music
ATTACH;FMTTYPE=image/png:https://events.krdo.com/wp-content/uploads/2025/02/logo-2023.png
ORGANIZER;CN="Angels":MAILTO:gina@gkaiseradvertising.com
END:VEVENT
BEGIN:VEVENT
DTSTART;TZID=America/Los_Angeles:20240928T180000
DTEND;TZID=America/Los_Angeles:20240928T220000
DTSTAMP:20260424T040135
CREATED:20240923T185346Z
LAST-MODIFIED:20240923T185346Z
UID:3998-1727546400-1727560800@events.krdo.com
SUMMARY:SKSF 13th Annual Night of Comedy – Silver Buckles & Endless Chuckles
DESCRIPTION:Show the world\, you should’ve been a cowboy at this year’s SKSF Night of Comedy signature fundraising event! Fancy yourself\, and step back into the boot-scootin’ era of 90’s country at our western themed Silver Buckles & Endless Chuckles event celebrating 25 years of serving our community. You and your friends in low places will laugh your achy-breaky heart out as we gather in support for our great mission of supporting individuals with disabilities and their families. So join us and get ready to tip your hat\, and tickle your funny bone! \nThe event includes a hilarious comedy act by Comedian\, Kevan “K-Von” Moezzi. K-Von is an internationally touring standup comedian\, actor\, and host best known for his work on MTV’s “Disaster Date” and NBC’s “Last Comic Standing” to name a few. He has appeared in movies\, television shows\, and on the talk show circuit and has built a popular channel on YouTube as well. \nEarly bird tickets are $85/per person or $150/couple.  Included with admission is a fantastic Silent Auction! This is your chance to bid on unique items\, including vacation packages\, hotel stays\, spa treatments\, and so much more thanks to the generosity of hundreds of donations from local businesses and supporters. In addition\, admission includes not only the comedy show and silent auction\, but a complimentary drink ticket\, a delectable selection of western buffet style BBQ brisket\, chicken with all the fixins\, fun photo booths\, live DJ music with dancing on Boot Barn Hall’s huge dance floor plus much more!  A fantastic value for a night on the town! \nHow can you make a difference?  Attend the event as a guest.  Register online today and join us for an unforgettable evening of laughter and philanthropy. Bring your friends\, family\, and colleagues along to share in the fun while supporting a worthy cause.  If you can’t make the event\, why not help spread the word! Share this event with your network! Use social media platforms\, community bulletin boards\, and word-of-mouth to inform others about this incredible comedy fundraiser. Every mention counts and can help us reach a wider audience. Visit our website to print out a flyer: https://sksfcolorado.org/wp-content/uploads/2024/05/NOC_2024_FLYER.pdf \nRemember\, the Night of Comedy fundraiser for Special Kids Special Families aims to bring joy and support to adults and children with special needs and their families. Your participation and generosity will go a long way in making a positive impact in their lives. Get your boots on\, buckle up\, and prepare for an evening filled with laughter and compassion. Together\, let’s make a difference! \n  \nDate: Saturday\, September 28th \nTime: 6:00pm-10:00pm (doors open at 5:30pm) \nVenue: Boot Barn Hall\, 13071 Bass Pro Drive\, CO Springs\, CO 80921 \nTicket Price: Early bird pricing through 7/31 @ $85/person; $150/couple; $600/table of 8 \nDress Code: Western attire (optional but encouraged) \nAge limit: preferred 15 & older to attend \nhttps://sksfcolorado.org/noc/
URL:https://events.krdo.com/event/sksf-13th-annual-night-of-comedy-silver-buckles-endless-chuckles/
LOCATION:Boot Barn Hall\, 13071 Bass Pro Drive\, Colorado Springs\, 80921
CATEGORIES:Comedy,Community,Fundraisers and Galas
ATTACH;FMTTYPE=image/png:https://events.krdo.com/wp-content/uploads/2024/07/NOC_2024_BANNER.png
ORGANIZER;CN="Special Kids Special Families":MAILTO:sksf@sksfcolorado.org
END:VEVENT
BEGIN:VEVENT
DTSTART;TZID=America/Los_Angeles:20221008T173000
DTEND;TZID=America/Los_Angeles:20221008T210000
DTSTAMP:20260424T040135
CREATED:20220919T224109Z
LAST-MODIFIED:20220919T224109Z
UID:787-1665250200-1665262800@events.krdo.com
SUMMARY:SKSF 11th Annual Night of Comedy - Boots\, Buckles & Chuckles
DESCRIPTION:Come “Cowboy Up” with Special Kid Special Families during their 11th Annual Night of Comedy signature fundraising event to benefit Zach’s Place Center.  This year’s western theme – Boots\, Buckles & Chuckles – will be held at the historic Flying W Ranch on Saturday\, October 8th from 5:30pm-9:00pm featuring FOX21 morning news anchor\, Abbie Burke as event Emcee.  Please join us in the fun all for a great cause!  Admission includes a Chuckwagon style dinner\, complimentary glass of beer or wine\, cash bar\, Zach’s Place 2022 video premier\, live musical performance by the famous Flying W Wranglers\, a raise the paddle auction\, and over 50 amazing silent auction packages to bid on!  All ages welcome – $95/person and special table pricing available. Guests must pre-register online in advance at SKSFcolorado.org. \nProceeds will benefit low-income families whose children attend SKSF’s Zach’s Place at the Laurie Hillyard Family Center.  Zach’s Place is one of only two licensed daycare facilities in the state of Colorado with the focus and training to care for children ages 2.5-18 with intellectual\, physical and emotional disabilities. \nThanks to these major sponsors for making this event possible – J2D Electric\, Inc.\, Koscove Metal\, RPS Healthcare\, Developmental Pathways\, Leavitt Group\, Moody Insurance Agency\, NuStar Energy\, Pentrust Mortgage Group\, & Shield Healthcare with even more sponsor support on the SKSF website – www.sksfcolorado.org.
URL:https://events.krdo.com/event/sksf-11th-annual-night-of-comedy-boots-buckles-chuckles/
LOCATION:flying w ranch\, 3330 Chuckwagon Road\, Colorado Springs\, 80919
CATEGORIES:Community,Food and Drink,Fundraisers and Galas,Music
ATTACH;FMTTYPE=image/png:https://events.krdo.com/wp-content/uploads/2022/09/NOC_2022_STD_BusCards.png
ORGANIZER;CN="Special Kids Special Families":MAILTO:sksf@sksfcolorado.org
END:VEVENT
BEGIN:VEVENT
DTSTART;TZID=America/Los_Angeles:20221003T150000
DTEND;TZID=America/Los_Angeles:20221005T190000
DTSTAMP:20260424T040135
CREATED:20221004T153721Z
LAST-MODIFIED:20221004T153721Z
UID:887-1664809200-1664996400@events.krdo.com
SUMMARY:Munchkin Market of Woodland Park
DESCRIPTION:Munchkin Market is a HUGE consignment sale of gently used children’s items with the following types of items: Clothing (sizes 0-junior 16)\, shoes (infant to juniors)\, all types of baby gear\, strollers\, car seats\, high chairs\, cribs\, outdoor play equipment\, toys\, media\, health and safety\, accessories\, maternity\, bedding and more! A portion of the proceeds from the sale help fund our MOPS program in Woodland Park! We accept cash\, checks and all major credit cards. \n​If you are interested in consigning\, we would love for you to join us! You can receive up to 70% of the selling price of your items. \nRegister to consign for the Fall 2022 Sale at http://www.utepassmops.org/consignors \nWhen and Where: \nThursday\, November 3\, 3:00 pm-7:00 pm \nFriday\, November 4\, 12:00 pm-7:00 pm \nSaturday\, November 5\, 9:00 am-1:00 pm (1/2 Price Day\, ALL ITEMS 50% OFF) \nWoodland Park Community Church \n800 Valley View Dr. \nWoodland Park\, CO 80863
URL:https://events.krdo.com/event/munchkin-market-of-woodland-park/
LOCATION:woodland park community church\, 800 Valley View Dr.\, Woodland Park\, 80863
CATEGORIES:Fundraisers and Galas
ATTACH;FMTTYPE=image/png:https://events.krdo.com/wp-content/uploads/2022/10/MM-Logo.png
ORGANIZER;CN="Maggie Schmidt":MAILTO:munchkinmarket@gmail.com
END:VEVENT
BEGIN:VEVENT
DTSTART;TZID=America/Los_Angeles:20220930T190000
DTEND;TZID=America/Los_Angeles:20220930T210000
DTSTAMP:20260424T040135
CREATED:20220919T224108Z
LAST-MODIFIED:20220919T224108Z
UID:741-1664564400-1664571600@events.krdo.com
SUMMARY:Scorched Earth Haunted Farm
DESCRIPTION:A 10\,000 square foot hay bale haunted attraction in Falcon\, located on Smith Farms. We are a Colorado Charity that donated back to the community! \nOpen Fridays and Saturdays from Sept 30th to October 30th! \nscorchedearth.farm
URL:https://events.krdo.com/event/scorched-earth-haunted-farm/2022-09-30/
CATEGORIES:Fundraisers and Galas
ATTACH;FMTTYPE=image/jpeg:https://events.krdo.com/wp-content/uploads/2022/08/6E01A477-F50C-4CC8-8E82-88F97DF765C3.jpeg
END:VEVENT
BEGIN:VEVENT
DTSTART;TZID=America/Denver:20220227T120000
DTEND;TZID=America/Denver:20220227T160000
DTSTAMP:20260424T040135
CREATED:20220224T165326Z
LAST-MODIFIED:20220224T165326Z
UID:287-1645963200-1645977600@events.krdo.com
SUMMARY:Bridal Extravaganza 2022
DESCRIPTION:The  21st Annual Bridal Extravaganza is coming to the DoubleTree by Hilton Hotel in Colorado Springs on Sunday\, February 27th\, 2022.\n\n\nBridal Extravaganza is the Wedding Planning  Event of the Year!                                            Meet over 50 of Southern Colorado’s best wedding pros to plan your once in a lifetime day. Enjoy  live entertainment\, complimentary mocktails\, cake & food tastings\, and fabulous wedding fashions and decor. Join the Bride-to-Be Scavenger Hunt for your chance to win $1\,000s of dollars  in Prize Packages                    Complimentary tickets for the Bride and Groom. $5 at the door for additional guests.  More info at www.bridalextravaganza.us
URL:https://events.krdo.com/event/bridal-extravaganza-2022/
LOCATION:DoubleTree by Hilton Hotel Colorado Springs\, 1775 East Cheyenne Mountain Boulevard\, Colorado Springs\, CO\, 80906\, United States
CATEGORIES:Fundraisers and Galas
ATTACH;FMTTYPE=image/jpeg:https://events.krdo.com/wp-content/uploads/2022/02/ee60d3f574ea1454159b9931f1515452-BphUqv.tmp_.jpg
END:VEVENT
END:VCALENDAR