BEGIN:VCALENDAR
VERSION:2.0
PRODID:-//KRDO13 Events - ECPv6.15.20//NONSGML v1.0//EN
CALSCALE:GREGORIAN
METHOD:PUBLISH
X-WR-CALNAME:KRDO13 Events
X-ORIGINAL-URL:https://events.krdo.com
X-WR-CALDESC:Events for KRDO13 Events
REFRESH-INTERVAL;VALUE=DURATION:PT1H
X-Robots-Tag:noindex
X-PUBLISHED-TTL:PT1H
BEGIN:VTIMEZONE
TZID:America/Los_Angeles
BEGIN:DAYLIGHT
TZOFFSETFROM:-0800
TZOFFSETTO:-0700
TZNAME:PDT
DTSTART:20240310T100000
END:DAYLIGHT
BEGIN:STANDARD
TZOFFSETFROM:-0700
TZOFFSETTO:-0800
TZNAME:PST
DTSTART:20241103T090000
END:STANDARD
BEGIN:DAYLIGHT
TZOFFSETFROM:-0800
TZOFFSETTO:-0700
TZNAME:PDT
DTSTART:20250309T100000
END:DAYLIGHT
BEGIN:STANDARD
TZOFFSETFROM:-0700
TZOFFSETTO:-0800
TZNAME:PST
DTSTART:20251102T090000
END:STANDARD
BEGIN:DAYLIGHT
TZOFFSETFROM:-0800
TZOFFSETTO:-0700
TZNAME:PDT
DTSTART:20260308T100000
END:DAYLIGHT
BEGIN:STANDARD
TZOFFSETFROM:-0700
TZOFFSETTO:-0800
TZNAME:PST
DTSTART:20261101T090000
END:STANDARD
END:VTIMEZONE
BEGIN:VEVENT
DTSTART;TZID=America/Los_Angeles:20251101T160000
DTEND;TZID=America/Los_Angeles:20251101T213000
DTSTAMP:20260422T135526
CREATED:20250912T192712Z
LAST-MODIFIED:20250912T192712Z
UID:7022-1762012800-1762032600@events.krdo.com
SUMMARY:Born to Be Wild 2025 Gala - 30 Years of Cloud!
DESCRIPTION:Join The Cloud Foundation for Born to Be Wild 2025—an unforgettable evening of celebration\, advocacy\, and wild horse & burro magic!\n\nHeld at the historic Flying W Ranch in Colorado Springs on Saturday\, November 1st from 4:00–9:30 PM\, this family-friendly gala supports the protection of wild horses and burros on our public lands. \nEnjoy a chuckwagon dinner\, silent and live auctions\, a parade of formerly wild equines\, youth activities\, live music and dancing with the Flying W Wranglers\, and guest appearances by wild horse advocates and celebrities like filmmaker Ginger Kathrens (Cloud Wild Stallion of the Rockies) and actor Adam Bartley (Longmire\, This is Us). \nMeet real-life mustangs\, including members of Cloud’s family\, and help raise critical funds to keep wild horses and burros wild and free! \nThe Cloud Foundation is a 501c3 non-profit organization that works to protect and preserve America’s wild horses and burros on our public lands through education and advocacy.
URL:https://events.krdo.com/event/born-to-be-wild-2025-gala-30-years-of-cloud/
LOCATION:flying w ranch\, 3330 Chuckwagon Road\, Colorado Springs\, 80919
CATEGORIES:Community,Education,Food and Drink,Fundraisers and Galas,Music,Other,Shopping
ATTACH;FMTTYPE=image/png:https://events.krdo.com/wp-content/uploads/2025/09/BTBW-20th_JOIN-US_FBv2.png
ORGANIZER;CN="The Cloud Foundation":MAILTO:info@thecloudfoundation.org
END:VEVENT
END:VCALENDAR