BEGIN:VCALENDAR
VERSION:2.0
PRODID:-//KRDO13 Events - ECPv6.15.20//NONSGML v1.0//EN
CALSCALE:GREGORIAN
METHOD:PUBLISH
X-ORIGINAL-URL:https://events.krdo.com
X-WR-CALDESC:Events for KRDO13 Events
REFRESH-INTERVAL;VALUE=DURATION:PT1H
X-Robots-Tag:noindex
X-PUBLISHED-TTL:PT1H
BEGIN:VTIMEZONE
TZID:America/Denver
BEGIN:DAYLIGHT
TZOFFSETFROM:-0700
TZOFFSETTO:-0600
TZNAME:MDT
DTSTART:20250309T090000
END:DAYLIGHT
BEGIN:STANDARD
TZOFFSETFROM:-0600
TZOFFSETTO:-0700
TZNAME:MST
DTSTART:20251102T080000
END:STANDARD
BEGIN:DAYLIGHT
TZOFFSETFROM:-0700
TZOFFSETTO:-0600
TZNAME:MDT
DTSTART:20260308T090000
END:DAYLIGHT
BEGIN:STANDARD
TZOFFSETFROM:-0600
TZOFFSETTO:-0700
TZNAME:MST
DTSTART:20261101T080000
END:STANDARD
BEGIN:DAYLIGHT
TZOFFSETFROM:-0700
TZOFFSETTO:-0600
TZNAME:MDT
DTSTART:20270314T090000
END:DAYLIGHT
BEGIN:STANDARD
TZOFFSETFROM:-0600
TZOFFSETTO:-0700
TZNAME:MST
DTSTART:20271107T080000
END:STANDARD
END:VTIMEZONE
BEGIN:VTIMEZONE
TZID:America/Los_Angeles
BEGIN:DAYLIGHT
TZOFFSETFROM:-0800
TZOFFSETTO:-0700
TZNAME:PDT
DTSTART:20250309T100000
END:DAYLIGHT
BEGIN:STANDARD
TZOFFSETFROM:-0700
TZOFFSETTO:-0800
TZNAME:PST
DTSTART:20251102T090000
END:STANDARD
BEGIN:DAYLIGHT
TZOFFSETFROM:-0800
TZOFFSETTO:-0700
TZNAME:PDT
DTSTART:20260308T100000
END:DAYLIGHT
BEGIN:STANDARD
TZOFFSETFROM:-0700
TZOFFSETTO:-0800
TZNAME:PST
DTSTART:20261101T090000
END:STANDARD
BEGIN:DAYLIGHT
TZOFFSETFROM:-0800
TZOFFSETTO:-0700
TZNAME:PDT
DTSTART:20270314T100000
END:DAYLIGHT
BEGIN:STANDARD
TZOFFSETFROM:-0700
TZOFFSETTO:-0800
TZNAME:PST
DTSTART:20271107T090000
END:STANDARD
END:VTIMEZONE
BEGIN:VEVENT
DTSTART;TZID=America/Denver:20260204T120000
DTEND;TZID=America/Denver:20261215T123000
DTSTAMP:20260421T023306
CREATED:20260207T035657Z
LAST-MODIFIED:20260214T035903Z
UID:8033-1770206400-1797337800@events.krdo.com
SUMMARY:Food Safety Works - Food Service Certification-ONLINE
DESCRIPTION:REMINDER THIS IS NOT THE CERTIFICATION FOR COTTAGE FOODS TRAINING. This is for food service workers.\n\n\nREMINDER THIS IS NOT THE CERTIFICATION FOR COTTAGE FOODS TRAINING. This is for food service workers.  \nThe Food Safety Works safe food handler certificate training teaches entry-level food workers how to safely handle\, prepare and store food. This certification is taught online and is self-guided. Participants with a passing score receive a safe food handler certificate valid for 2 years. \nBenefits for Food Service Workers: \n\nIncrease in confidence and motivation to handle food safely.\nImprove knowledge and awareness of ways to prevent foodborne illness.\nValued by employers.\nGreat incentives towards job promotions.\nBenefits for your business.\nTake pride in being proactive in preventing foodborne illness.\nIncrease consumer confidence – show that you value safety.\nIncrease employee pride and teamwork in serving food.\nIncrease likelihood of improved inspections.\n\nRegistered participants will receive a confirmation email from Eventbrite immediately after registering which will have the website address and password to access the Food Safety Works Certification materials. You can download presentation slides\, watch training video\, and access link to exam. Once exam is completed and scored you will receive an email with your certificate valid for 2 years. \nRegistration is ongoing and class can be started and completed anytime. \nAdditional classes visit: https://epcextension.eventbrite.com/ \n \nColorado State University Extension is an equal opportunity provider: https://col.st/OWMJA \n \nColorado State University Extension es un proveedor que ofrece igualdad de oportunidades. https://col.st/0WMJA
URL:https://events.krdo.com/event/food-safety-works-food-service-certification-online-4/
ATTACH;FMTTYPE=image/jpeg:https://events.krdo.com/wp-content/uploads/2026/02/7b498f29960cc65fa358096d032733ff-EHTbga.tmp_.jpg
END:VEVENT
BEGIN:VEVENT
DTSTART;TZID=America/Los_Angeles:20260205T100000
DTEND;TZID=America/Los_Angeles:20260205T113000
DTSTAMP:20260421T023306
CREATED:20260127T170713Z
LAST-MODIFIED:20260127T170713Z
UID:7933-1770285600-1770291000@events.krdo.com
SUMMARY:The Navajo Code Talkers
DESCRIPTION:During WWII\, the U.S. Marines organized a special team of Navajo men who used their unknown language and put it into an ingenious code. This code was never broken\, and it helped win the war in the Pacific theater against the Japanese. This presentation includes video Code Talker interviews and Ken’s time with Navajo people and two Code Talkers. \nKen Valles has participated in Mountain Man Rendezvous\, visiting museums and sites around the world. \nMembers-FREE\, Not-Yet-Member-$25.00 \n*Dates\, times\, location are subject to change\, please check registration link for up-to-date details. \nAbout PILLAR \nPILLAR Institute for Lifelong Learning is a dynamic hub for curious minds seeking intellectual growth and meaningful community connections. Through an array of engaging programs\, thought-provoking lectures\, and enriching activities\, PILLAR fosters a culture of continuous learning for adults of all ages. Our mission is to inspire lifelong learners by providing opportunities to explore diverse topics\, cultivate critical thinking\, and connect with others who share a passion for discovery. At PILLAR\, learning is not just a pursuit—it’s a way of life.
URL:https://events.krdo.com/event/the-navajo-code-talkers/
LOCATION:PILLAR Institute for Lifelong Learning\, 6385 Corporate Dr.\, Suite 200\, Colorado Springs\, 80919
CATEGORIES:Community,Education
ATTACH;FMTTYPE=image/jpeg:https://events.krdo.com/wp-content/uploads/2026/01/323424623_528911095719345_2389140240466635102_n-16.jpg
ORGANIZER;CN="PILLAR Institute for Lifelong Learning":MAILTO:director@pillarinstitute.org
END:VEVENT
BEGIN:VEVENT
DTSTART;TZID=America/Los_Angeles:20260205T130000
DTEND;TZID=America/Los_Angeles:20260205T150000
DTSTAMP:20260421T023306
CREATED:20260127T170606Z
LAST-MODIFIED:20260127T170606Z
UID:7937-1770296400-1770303600@events.krdo.com
SUMMARY:The Secret of Secrets: Non-Local Consciousness
DESCRIPTION:No one really KNOWS what consciousness is. Many neuroscientists insist it is merely a neurochemical process in the brain\, yet some physicists hypothesize it may be more\nfundamental to reality than matter is. Non-local consciousness is the theory that consciousness isn’t confined to the brain or body\, but can exist and communicate beyond physical limitations. \nDr. David Gardiner: Associate Professor at Colorado College and the Chair of Asian Studies\, Religion\, Culture\, and Power. \nMembers-FREE\, Not-Yet-Member-$25.00 \n*Dates\, times\, location are subject to change\, please check registration link for up-to-date details. \nAbout PILLAR \nPILLAR Institute for Lifelong Learning is a dynamic hub for curious minds seeking intellectual growth and meaningful community connections. Through an array of engaging programs\, thought-provoking lectures\, and enriching activities\, PILLAR fosters a culture of continuous learning for adults of all ages. Our mission is to inspire lifelong learners by providing opportunities to explore diverse topics\, cultivate critical thinking\, and connect with others who share a passion for discovery. At PILLAR\, learning is not just a pursuit—it’s a way of life.
URL:https://events.krdo.com/event/the-secret-of-secrets-non-local-consciousness/
LOCATION:PILLAR Institute for Lifelong Learning\, 6385 Corporate Dr.\, Suite 200\, Colorado Springs\, 80919
CATEGORIES:Community,Education
ATTACH;FMTTYPE=image/jpeg:https://events.krdo.com/wp-content/uploads/2026/01/323424623_528911095719345_2389140240466635102_n-17.jpg
ORGANIZER;CN="PILLAR Institute for Lifelong Learning":MAILTO:director@pillarinstitute.org
END:VEVENT
END:VCALENDAR