BEGIN:VCALENDAR
VERSION:2.0
PRODID:-//KRDO13 Events - ECPv6.15.20//NONSGML v1.0//EN
CALSCALE:GREGORIAN
METHOD:PUBLISH
X-WR-CALNAME:KRDO13 Events
X-ORIGINAL-URL:https://events.krdo.com
X-WR-CALDESC:Events for KRDO13 Events
REFRESH-INTERVAL;VALUE=DURATION:PT1H
X-Robots-Tag:noindex
X-PUBLISHED-TTL:PT1H
BEGIN:VTIMEZONE
TZID:America/Denver
BEGIN:DAYLIGHT
TZOFFSETFROM:-0700
TZOFFSETTO:-0600
TZNAME:MDT
DTSTART:20230312T090000
END:DAYLIGHT
BEGIN:STANDARD
TZOFFSETFROM:-0600
TZOFFSETTO:-0700
TZNAME:MST
DTSTART:20231105T080000
END:STANDARD
BEGIN:DAYLIGHT
TZOFFSETFROM:-0700
TZOFFSETTO:-0600
TZNAME:MDT
DTSTART:20240310T090000
END:DAYLIGHT
BEGIN:STANDARD
TZOFFSETFROM:-0600
TZOFFSETTO:-0700
TZNAME:MST
DTSTART:20241103T080000
END:STANDARD
BEGIN:DAYLIGHT
TZOFFSETFROM:-0700
TZOFFSETTO:-0600
TZNAME:MDT
DTSTART:20250309T090000
END:DAYLIGHT
BEGIN:STANDARD
TZOFFSETFROM:-0600
TZOFFSETTO:-0700
TZNAME:MST
DTSTART:20251102T080000
END:STANDARD
BEGIN:DAYLIGHT
TZOFFSETFROM:-0700
TZOFFSETTO:-0600
TZNAME:MDT
DTSTART:20260308T090000
END:DAYLIGHT
BEGIN:STANDARD
TZOFFSETFROM:-0600
TZOFFSETTO:-0700
TZNAME:MST
DTSTART:20261101T080000
END:STANDARD
END:VTIMEZONE
BEGIN:VEVENT
DTSTART;TZID=America/Denver:20241219T120000
DTEND;TZID=America/Denver:20250628T130000
DTSTAMP:20260423T212834
CREATED:20241220T130234Z
LAST-MODIFIED:20250627T174223Z
UID:5106-1734609600-1751115600@events.krdo.com
SUMMARY:Introduction to Canning: Water Bath Canning - Online Video Training
DESCRIPTION:Introduction to Canning: Water Bath Canning – Online Video Training\n\n\nIntroduction to Canning: Water Bath Canning – Online Video Training \nLink to the online training video and materials will be sent to the email address used for registration.  \nLearn how to safely can high acid foods with this online video and materials. The boiling water canning method can be used to preserve fruit\, salsa\, pickles\, tomatoes\, jams\, jellies and more.
URL:https://events.krdo.com/event/introduction-to-canning-water-bath-canning-online-video-training/
LOCATION:Colorado State University Extension – Colorado Springs\, 17 N. Spruce Street\, 2nd Floor\, Colorado Springs\, CO\, 80905\, United States
ATTACH;FMTTYPE=image/jpeg:https://events.krdo.com/wp-content/uploads/2024/12/bf976573806cd8e203dab0d32de317e4-DJcOFS.tmp_.jpg
END:VEVENT
BEGIN:VEVENT
DTSTART;TZID=America/Denver:20250125T093000
DTEND;TZID=America/Denver:20250125T130000
DTSTAMP:20260423T212834
CREATED:20250124T091246Z
LAST-MODIFIED:20250124T091246Z
UID:5353-1737797400-1737810000@events.krdo.com
SUMMARY:Find Your Purpose workshop
DESCRIPTION:Let go of the boring and reinvent yourself with the activities that set your soul on fire.\n\n\nLately\, have you been feeling like: \n\nLife has no meaning\nYou’ve lost part of who you are\nYou are exhausted and depleted\nYou want to be involved but don’t know how\nYour career is fine…but it doesn’t fulfill you\nEvery day feels the same\nYou are perfectly capable\, healthy\, everything is fine\, but you just exist…you’re not really living\n\nWorst of all\, you are SO ready for a change\, but you don’t know where to start? \nWhat would it be like if you had purpose and a passion for life once again? \nTo truly feel like your life has meaning beyond your career\, family\, and keeping a nice house? \nImagine what your life would be like to wake up excited every morning to be alive. Can you even imagine a day where you don’t want to sleep in\, simply because you just can’t wait to get started with your day? \nIn this life\, you laugh and smile more. You feel happy and alive! Life just seems to flow in a positive direction. As a result\, you naturally attract more friendships because you are happier and it is infectious. Even your kids make plans to spend more time with you! \nBest of all\, you have a deep knowing that you are heading in the right direction and it feels GOOD. You trust yourself and the decisions you make because you recognize that you are doing everything with love for yourself. You are thriving and you love it. \nThis doesn’t have to be a daydream! \nThis CAN be your life. If you’re ready to reinvent yourself and finally figure out what fills your cup\, the Find Your Purpose workshop was made for you. \nDuring the Find Your Purpose workshop\, we’ll be going through: \n\n2 techniques to reconnect with your heart and soul\n7 strategies to discover your life purpose\nGuided activities that instantly boost your confidence and trust for yourself\nA done-for-you action plan to immediately propel you into living a more meaningful life\n\nThis workshop is for you if you: \n\nWant your life to have more meaning beyond your career and kids\nAre ready to make a change\, but don’t know where to start\nFeel like life is stagnant and boring\nDesire to change your career\, your extracurriculars or volunteering activities\nLong to discover makes you feel fulfilled\nNeed more reasons to get up each morning and be happy to be alive\n\nThese tools work\, even if you…. \n\nare depressed\, depleted\, and stuck\nhave been completely lost and aimless for a long time\ndon’t know who you are anymore and have no idea how to figure it out\nlack the inspiration to even know what you want\n\nSo\, what are you waiting for? \nThe invitation is right here to step into your purposeful life! Join us for this engaging and enlightening workshop!
URL:https://events.krdo.com/event/find-your-purpose-workshop/
LOCATION:Fireside Properties\, Inc.\, 216 Main Street\, Edwards\, CO\, 81632\, United States
ATTACH;FMTTYPE=image/jpeg:https://events.krdo.com/wp-content/uploads/2025/01/99f9229b16c899d0a7f5eee0ac6c34d4-YINJpM.tmp_.jpg
END:VEVENT
END:VCALENDAR