BEGIN:VCALENDAR
VERSION:2.0
PRODID:-//KRDO13 Events - ECPv6.15.20//NONSGML v1.0//EN
CALSCALE:GREGORIAN
METHOD:PUBLISH
X-WR-CALNAME:KRDO13 Events
X-ORIGINAL-URL:https://events.krdo.com
X-WR-CALDESC:Events for KRDO13 Events
REFRESH-INTERVAL;VALUE=DURATION:PT1H
X-Robots-Tag:noindex
X-PUBLISHED-TTL:PT1H
BEGIN:VTIMEZONE
TZID:America/Los_Angeles
BEGIN:DAYLIGHT
TZOFFSETFROM:-0800
TZOFFSETTO:-0700
TZNAME:PDT
DTSTART:20230312T100000
END:DAYLIGHT
BEGIN:STANDARD
TZOFFSETFROM:-0700
TZOFFSETTO:-0800
TZNAME:PST
DTSTART:20231105T090000
END:STANDARD
BEGIN:DAYLIGHT
TZOFFSETFROM:-0800
TZOFFSETTO:-0700
TZNAME:PDT
DTSTART:20240310T100000
END:DAYLIGHT
BEGIN:STANDARD
TZOFFSETFROM:-0700
TZOFFSETTO:-0800
TZNAME:PST
DTSTART:20241103T090000
END:STANDARD
BEGIN:DAYLIGHT
TZOFFSETFROM:-0800
TZOFFSETTO:-0700
TZNAME:PDT
DTSTART:20250309T100000
END:DAYLIGHT
BEGIN:STANDARD
TZOFFSETFROM:-0700
TZOFFSETTO:-0800
TZNAME:PST
DTSTART:20251102T090000
END:STANDARD
BEGIN:DAYLIGHT
TZOFFSETFROM:-0800
TZOFFSETTO:-0700
TZNAME:PDT
DTSTART:20260308T100000
END:DAYLIGHT
BEGIN:STANDARD
TZOFFSETFROM:-0700
TZOFFSETTO:-0800
TZNAME:PST
DTSTART:20261101T090000
END:STANDARD
END:VTIMEZONE
BEGIN:VEVENT
DTSTART;TZID=America/Los_Angeles:20241206T160000
DTEND;TZID=America/Los_Angeles:20250101T203000
DTSTAMP:20260424T205844
CREATED:20241108T160716Z
LAST-MODIFIED:20241108T160716Z
UID:4922-1733500800-1735763400@events.krdo.com
SUMMARY:Electric Safari
DESCRIPTION:Electric Safari at Cheyenne Mountain Zoo is the only place in Colorado where you can enjoy a holiday-safari themed drone show\, and explore 50 acres of one-of-a-kind light sculptures\, twinkling light displays\, and larger-than-life illuminated inflatable animals while hand-feeding a giraffe herd on the side of a mountain! (Drone show and inflatables are weather dependent). For the last five years\, Electric Safari was voted 3rd Best Zoo Lights in the U.S. by USA TODAY’s 10Best Readers’ Choice Awards. This year’s event will celebrate 34 years of holiday cheer\, and Santa Claus will be listening to wishes December 6 – 23. Come celebrate the holiday season with sparkling lights\, animals and fun for the whole family! For tickets and all the details\, visit cmzoo.org/electric. \n  \nAdvance timed tickets are required for members and non-members. Zoo member tickets are free\, but must be reserved in advance. Due to the popularity of Electric Safari\, some times and nights may sell out in advance. Everyone visiting the Zoo must have their own advance e-ticket\, including children age 2 and under. Discounted tickets (senior and military) will be validated at the front gate with the appropriate ID.
URL:https://events.krdo.com/event/electric-safari/
LOCATION:Cheyenne Mountain Zoo\, 4250 Cheyenne Mountain Zoo Road\, Colorado Springs\, 80906
CATEGORIES:Fairs and Festivals
ATTACH;FMTTYPE=image/jpeg:https://events.krdo.com/wp-content/uploads/2024/11/2024ES_FB.jpg
ORGANIZER;CN="Cheyenne Mountain Zoo":MAILTO:specialevents@cmzoo.org
END:VEVENT
BEGIN:VEVENT
DTSTART;TZID=America/Los_Angeles:20241217T100000
DTEND;TZID=America/Los_Angeles:20241217T123000
DTSTAMP:20260424T205844
CREATED:20241121T171855Z
LAST-MODIFIED:20241121T171855Z
UID:4989-1734429600-1734438600@events.krdo.com
SUMMARY:U.S. Domestic Political Issues 1960-65
DESCRIPTION:As a holiday gift to the community\, all classes are FREE in November and December \nDescription\nAmerican Domestic and Foreign Policy Issues in the 1960’s \nThis is a 3-part course. \n#5007      U.S. Domestic Political Issues 1960-65   The first part will focus on the years 1960-1965 to include the 1960 presidential campaign between Nixon and Kennedy\, the early Kennedy administration’s civil rights initiatives\, the 1963 Kennedy assassination\, the 1964 presidential campaign between Johnson and Goldwater\, and conclude with Johnson’s Great Society programs.  December 3 \n#5010      U.S. Domestic Political Issues 1965-69  The second part will feature the domestic turmoil that embroiled the United States during the Johnson administration involving the civil rights movement\, and the protests against the expanding Vietnam war\, LBJ’s decision not to seek re-election in 1968\, the assassinations of Martin Luther King and Robert Kennedy\, and the 1968 presidential campaign pitting Nixon against Hubert Humphrey.  December 10 \n#5013      U.S. Foreign Policy Issues 1960-69  The third part will address the major foreign policy issues of the sixties. Although dominated by the expanding Vietnam war\, this presentation will also include the 1962 Cuban missile crisis\, the 1963 Limited Test Ban Treaty with the Soviet Union\, and the U.S. space program from Kennedy’s pledge to put a man on the moon by the end of the decade to the Apollo 11 mission and Neil Armstrong and Buzz Aldrin’s walk on the moon.  The discussion on the Vietnam war will include the Kennedy decision to send military advisors to the Republic of Vietnam\, Johnson’s expansion of the war after the passage of the 1964 Gulf of Tonkin Resolution\, the decision to “Americanize” the war with the introduction of large scale ground forces in 1965\, the expansion of the air war over North Vietnam\, and the disastrous 1968 Tet Offensive.  This session will conclude with Richard Nixon’s “Vietnamization” strategy to end the war after his 1968 election.  December 17 \n  \nInstructor: Bill Berry\, PhD in International Relations with a focus on East Asian Politics from Cornell University.  He was a career Air Force Officer\, retiring with the rank of colonel.  He served in several East Asian assignments. Dr. Berry also taught at the Air Force Academy\, the National War College\, and the Asian Pacific Center for Security Studies. \n  \nCost:  Free class\, but participants must register online starting November 2. \nTuesdays\, December 3\, 10\, 17 from 10:10 am to 12:30 pm at PILLAR (note time) \n  \nAbout The PILLAR Institute \nPILLAR Institute for Lifelong Learning is the only independent lifelong learning institute in the Pikes Peak region and southern Colorado.  It is a volunteer-driven membership organization that is open to all. \nFor 25 years\, PILLAR has created opportunities where adults can come to socialize\, volunteer\, and keep their brains active through curiosity and learning. \nLifelong learning class offerings change from trimester to trimester and range from topics in history\, science\, geopolitics\, art\, health\, music\, spirituality\, and more. Classes may be held in-person at PILLAR’s location\, at offsite locations\, and/or virtually. Early registration is strongly encouraged to ensure a space in the class. For more details and to become a member\, visit https://www.pillarinstitute.org/. \n 
URL:https://events.krdo.com/event/u-s-domestic-political-issues-1960-65/2024-12-17/
LOCATION:PILLAR Institute for Lifelong Learning\, 6385 Corporate Dr.\, Suite 200\, Colorado Springs\, 80919
CATEGORIES:Education
ATTACH;FMTTYPE=image/jpeg:https://events.krdo.com/wp-content/uploads/2024/11/323424623_528911095719345_2389140240466635102_n.jpg
ORGANIZER;CN="PILLAR Institute for Lifelong Learning":MAILTO:director@pillarinstitute.org
END:VEVENT
END:VCALENDAR