BEGIN:VCALENDAR
VERSION:2.0
PRODID:-//KRDO13 Events - ECPv6.15.20//NONSGML v1.0//EN
CALSCALE:GREGORIAN
METHOD:PUBLISH
X-WR-CALNAME:KRDO13 Events
X-ORIGINAL-URL:https://events.krdo.com
X-WR-CALDESC:Events for KRDO13 Events
REFRESH-INTERVAL;VALUE=DURATION:PT1H
X-Robots-Tag:noindex
X-PUBLISHED-TTL:PT1H
BEGIN:VTIMEZONE
TZID:America/Denver
BEGIN:DAYLIGHT
TZOFFSETFROM:-0700
TZOFFSETTO:-0600
TZNAME:MDT
DTSTART:20230312T090000
END:DAYLIGHT
BEGIN:STANDARD
TZOFFSETFROM:-0600
TZOFFSETTO:-0700
TZNAME:MST
DTSTART:20231105T080000
END:STANDARD
BEGIN:DAYLIGHT
TZOFFSETFROM:-0700
TZOFFSETTO:-0600
TZNAME:MDT
DTSTART:20240310T090000
END:DAYLIGHT
BEGIN:STANDARD
TZOFFSETFROM:-0600
TZOFFSETTO:-0700
TZNAME:MST
DTSTART:20241103T080000
END:STANDARD
BEGIN:DAYLIGHT
TZOFFSETFROM:-0700
TZOFFSETTO:-0600
TZNAME:MDT
DTSTART:20250309T090000
END:DAYLIGHT
BEGIN:STANDARD
TZOFFSETFROM:-0600
TZOFFSETTO:-0700
TZNAME:MST
DTSTART:20251102T080000
END:STANDARD
END:VTIMEZONE
BEGIN:VTIMEZONE
TZID:America/Los_Angeles
BEGIN:DAYLIGHT
TZOFFSETFROM:-0800
TZOFFSETTO:-0700
TZNAME:PDT
DTSTART:20230312T100000
END:DAYLIGHT
BEGIN:STANDARD
TZOFFSETFROM:-0700
TZOFFSETTO:-0800
TZNAME:PST
DTSTART:20231105T090000
END:STANDARD
BEGIN:DAYLIGHT
TZOFFSETFROM:-0800
TZOFFSETTO:-0700
TZNAME:PDT
DTSTART:20240310T100000
END:DAYLIGHT
BEGIN:STANDARD
TZOFFSETFROM:-0700
TZOFFSETTO:-0800
TZNAME:PST
DTSTART:20241103T090000
END:STANDARD
BEGIN:DAYLIGHT
TZOFFSETFROM:-0800
TZOFFSETTO:-0700
TZNAME:PDT
DTSTART:20250309T100000
END:DAYLIGHT
BEGIN:STANDARD
TZOFFSETFROM:-0700
TZOFFSETTO:-0800
TZNAME:PST
DTSTART:20251102T090000
END:STANDARD
END:VTIMEZONE
BEGIN:VEVENT
DTSTART;TZID=America/Denver:20240403T113000
DTEND;TZID=America/Denver:20241209T040000
DTSTAMP:20260420T040551
CREATED:20240405T064301Z
LAST-MODIFIED:20241206T092706Z
UID:3550-1712143800-1733716800@events.krdo.com
SUMMARY:Food Safety Works - Food Service Certification-ONLINE
DESCRIPTION:REMINDER THIS IS NOT THE CERTIFICATION FOR COTTAGE FOODS TRAINING. This is for food service workers.\n\n\nREMINDER THIS IS NOT THE CERTIFICATION FOR COTTAGE FOODS TRAINING. This is for food service workers.  \nThe Food Safety Works safe food handler certificate training teaches entry-level food workers how to safely handle\, prepare and store food. This certification is taught online and is self-guided. Participants with a passing score receive a safe food handler certificate valid for 2 years. \nBenefits for Food Service Workers: \n\nIncrease in confidence and motivation to handle food safely.\nImprove knowledge and awareness of ways to prevent foodborne illness.\nValued by employers.\nGreat incentives towards job promotions.\nBenefits for your business.\nTake pride in being proactive in preventing foodborne illness.\nIncrease consumer confidence – show that you value safety.\nIncrease employee pride and teamwork in serving food.\nIncrease likelihood of improved inspections.\n\nRegistered participants will receive a confirmation email from Eventbrite immediately after registering which will have the website address and password to access the Food Safety Works Certification materials. You can download presentation slides\, watch training video\, and access link to exam. Once exam is completed and scored you will receive an email with your certificate valid for 2 years. \nRegistration is ongoing and class can be started and completed anytime. \nAdditional classes visit: https://epcextension.eventbrite.com/ \n \nColorado State University Extension is an equal opportunity provider: https://col.st/OWMJA \n \nColorado State University Extension es un proveedor que ofrece igualdad de oportunidades. https://col.st/0WMJA
URL:https://events.krdo.com/event/food-safety-works-food-service-certification-online-2/
ATTACH;FMTTYPE=image/jpeg:https://events.krdo.com/wp-content/uploads/2024/04/e1a2d6efa096427f8810a5929ea15e0a-cJcsOa.tmp_.jpg
END:VEVENT
BEGIN:VEVENT
DTSTART;TZID=America/Los_Angeles:20241018T160000
DTEND;TZID=America/Los_Angeles:20241031T203000
DTSTAMP:20260420T040551
CREATED:20240923T184256Z
LAST-MODIFIED:20240923T184256Z
UID:4455-1729267200-1730406600@events.krdo.com
SUMMARY:Boo at the Zoo
DESCRIPTION:Bring your little superhero\, princess or pirate to Boo at the Zoo Oct. 18-20\, 25-27 and 31\, 4 to 8:30 p.m.\, when Cheyenne Mountain Zoo comes alive with the spirit of Halloween. Boo at the Zoo gives your family an alternative to traditional trick-or-treating\, complete with your favorite animals! Set in a unique environment\, attendees will feel good about collecting candy made with sustainable palm oil to help protect wild orangutans. Put on your costume and bring your trick-or-treat bag to the wildest Halloween event in town. It’ll be a frightfully good time! \nAdvance timed tickets only. The time on your ticket indicates the earliest time you can enter the Zoo. Buy today! This event is popular\, and nights are likely to sell out. \nFor all the details\, please visit cmzoo.org/boo.
URL:https://events.krdo.com/event/boo-at-the-zoo/
LOCATION:Cheyenne Mountain Zoo\, 4250 Cheyenne Mountain Zoo Road\, Colorado Springs\, 80906
ATTACH;FMTTYPE=image/jpeg:https://events.krdo.com/wp-content/uploads/2024/09/2023BOO_CommunityCalendar.jpg
ORGANIZER;CN="Cheyenne Mountain Zoo":MAILTO:specialevents@cmzoo.org
END:VEVENT
BEGIN:VEVENT
DTSTART;VALUE=DATE:20241031
DTEND;VALUE=DATE:20241104
DTSTAMP:20260420T040551
CREATED:20241024T033947Z
LAST-MODIFIED:20241024T033947Z
UID:4778-1730332800-1730678399@events.krdo.com
SUMMARY:Cirque Italia Water Circus
DESCRIPTION:HAVE YOU EVER HAD SUCH A VIVID DREAM YOU THOUGHT IT WAS REAL? Cirque Italia has pulled out all the stops this year to take you on a magical dream adventure. Trust us PUEBLO\, this is one escapade you cannot afford to miss! \n  \nHave you ever wished you could turn back time? To go back to a simpler\, happy time filled with sock hops\, drive-in theaters\, muscle cars\, and thick sideburns? Well get out your poodle skirts and leather jackets! \nCirque Italia’s Gold Unit performers can’t wait to take you back to a time when hula hoops and soda fountains were abundant\, Elvis Presley dominated the airwaves\, greased hair was all the rage\, and street racing was a parent’s greatest concern! Come along for the ride when a 1950s-obsessed adolescent falls asleep and dreams of living in this revolutionary era. This high-octane show is guaranteed to captivate and engage every kiddo and Daddy-O in the audience. \nCirque Italia believes multi-culturalism is one of our strongest assets. Our show features performers from Argentina\, Brazil\, Romania\, and many other countries. Of course\, these incredible artists are preparing to wow you with their astounding acts. Master jugglers\, low wire fanatics\, dazzling contortion\, wild trampoline antics\, and even a wheel of death! Want to know more? You’ll have to come ‘dream’ with us as we travel back in time. \nCirque Italia’s mission is to provide high-class entertainment suitable for all age groups\, where all are welcome at our strictly animal-free shows! \nWhen: October 31st – November 3rd\, 2024 \nWhere: 3429 Dillon Dr\, Pueblo\, CO 81008 \nAt: Pueblo Mall in the parking lot \n  \n\nOct 31 – Thursday: 7:30pm\nNov 1 – Friday: 7:30pm\nNov 2 – Saturday: 1:30pm\, 4:30pm\, & 7:30pm\nNov 3 – Sunday: 1:30pm & 4:30pm\n\n  \nCost and Purchase Info: \nFor more information\, visit www.cirqueitalia.com and make sure to check all our social media accounts. Tickets can be purchased now starting at $10.00-$50.00 depending on availability.  Cirque Italia offers one free child admission with every full priced paying adult ticket in levels 2 or 3. This offer cannot be combined with any other offers\, discounts\, or deals. Please call 941-704-8572 to get the promo code for your location. \nBox office hours: \nThe box office opens on-site on Tuesday\, the week of the show. \nNon-show days: 10am – 6pm \nOn show days: 10am – 9pm \nYou may a0lso purchase tickets through our website (cirqueitalia.com/tickets) or by phone: (941) 704-8572. We also respond to text messages.
URL:https://events.krdo.com/event/cirque-italia-water-circus/
LOCATION:Pueblo Mall\, 3429 Dillon Dr\, Pueblo\, 81008
ATTACH;FMTTYPE=image/jpeg:https://events.krdo.com/wp-content/uploads/2024/10/6_20240309_141526_0005-1.jpg
END:VEVENT
BEGIN:VEVENT
DTSTART;TZID=America/Los_Angeles:20241031T160000
DTEND;TZID=America/Los_Angeles:20241031T200000
DTSTAMP:20260420T040551
CREATED:20240923T184032Z
LAST-MODIFIED:20240923T184032Z
UID:4249-1730390400-1730404800@events.krdo.com
SUMMARY:BOOOO WITH THE BUGS! (Halloween Day)
DESCRIPTION:Herkimer (the huge Beetle on the side of highway 115) invites you to explore The May Museum this October.\nFor the first time in history\, you can visit our World-Famous insect collection during the spookiest time of year!\nWe are going to have bug/creepy crawlers themed Face Painting and Candy! Our wonderful gift shop will be open!\nCostumes strongly encouraged!\nWe will be open 2 weekends and Halloween Day. Open on October 18 thru 20\, October 25 thru 27\, and October 31 from 4:00 PM to 8:00 PM
URL:https://events.krdo.com/event/boooo-with-the-bugs-halloween-day/
LOCATION:The Bug Museum (The May Natural History Museum)\, 710 Rock Creek Canyon Road\, Colorado Springs\, CO\, 80926\, United States
ATTACH;FMTTYPE=image/jpeg:https://events.krdo.com/wp-content/uploads/2024/08/Halloween-Flyer-May-Museum-2.jpg
ORGANIZER;CN="The Bug Museum (The May Natural History Museum)":MAILTO:reservations@goldeneaglecg.com
END:VEVENT
END:VCALENDAR