BEGIN:VCALENDAR
VERSION:2.0
PRODID:-//KRDO13 Events - ECPv6.15.20//NONSGML v1.0//EN
CALSCALE:GREGORIAN
METHOD:PUBLISH
X-ORIGINAL-URL:https://events.krdo.com
X-WR-CALDESC:Events for KRDO13 Events
REFRESH-INTERVAL;VALUE=DURATION:PT1H
X-Robots-Tag:noindex
X-PUBLISHED-TTL:PT1H
BEGIN:VTIMEZONE
TZID:America/Denver
BEGIN:DAYLIGHT
TZOFFSETFROM:-0700
TZOFFSETTO:-0600
TZNAME:MDT
DTSTART:20230312T090000
END:DAYLIGHT
BEGIN:STANDARD
TZOFFSETFROM:-0600
TZOFFSETTO:-0700
TZNAME:MST
DTSTART:20231105T080000
END:STANDARD
BEGIN:DAYLIGHT
TZOFFSETFROM:-0700
TZOFFSETTO:-0600
TZNAME:MDT
DTSTART:20240310T090000
END:DAYLIGHT
BEGIN:STANDARD
TZOFFSETFROM:-0600
TZOFFSETTO:-0700
TZNAME:MST
DTSTART:20241103T080000
END:STANDARD
BEGIN:DAYLIGHT
TZOFFSETFROM:-0700
TZOFFSETTO:-0600
TZNAME:MDT
DTSTART:20250309T090000
END:DAYLIGHT
BEGIN:STANDARD
TZOFFSETFROM:-0600
TZOFFSETTO:-0700
TZNAME:MST
DTSTART:20251102T080000
END:STANDARD
END:VTIMEZONE
BEGIN:VEVENT
DTSTART;TZID=America/Denver:20240403T113000
DTEND;TZID=America/Denver:20241209T040000
DTSTAMP:20260420T041717
CREATED:20240405T064301Z
LAST-MODIFIED:20241206T092706Z
UID:3550-1712143800-1733716800@events.krdo.com
SUMMARY:Food Safety Works - Food Service Certification-ONLINE
DESCRIPTION:REMINDER THIS IS NOT THE CERTIFICATION FOR COTTAGE FOODS TRAINING. This is for food service workers.\n\n\nREMINDER THIS IS NOT THE CERTIFICATION FOR COTTAGE FOODS TRAINING. This is for food service workers.  \nThe Food Safety Works safe food handler certificate training teaches entry-level food workers how to safely handle\, prepare and store food. This certification is taught online and is self-guided. Participants with a passing score receive a safe food handler certificate valid for 2 years. \nBenefits for Food Service Workers: \n\nIncrease in confidence and motivation to handle food safely.\nImprove knowledge and awareness of ways to prevent foodborne illness.\nValued by employers.\nGreat incentives towards job promotions.\nBenefits for your business.\nTake pride in being proactive in preventing foodborne illness.\nIncrease consumer confidence – show that you value safety.\nIncrease employee pride and teamwork in serving food.\nIncrease likelihood of improved inspections.\n\nRegistered participants will receive a confirmation email from Eventbrite immediately after registering which will have the website address and password to access the Food Safety Works Certification materials. You can download presentation slides\, watch training video\, and access link to exam. Once exam is completed and scored you will receive an email with your certificate valid for 2 years. \nRegistration is ongoing and class can be started and completed anytime. \nAdditional classes visit: https://epcextension.eventbrite.com/ \n \nColorado State University Extension is an equal opportunity provider: https://col.st/OWMJA \n \nColorado State University Extension es un proveedor que ofrece igualdad de oportunidades. https://col.st/0WMJA
URL:https://events.krdo.com/event/food-safety-works-food-service-certification-online-2/
ATTACH;FMTTYPE=image/jpeg:https://events.krdo.com/wp-content/uploads/2024/04/e1a2d6efa096427f8810a5929ea15e0a-cJcsOa.tmp_.jpg
END:VEVENT
BEGIN:VEVENT
DTSTART;TZID=America/Denver:20240516T083000
DTEND;TZID=America/Denver:20240530T123000
DTSTAMP:20260420T041717
CREATED:20240315T055811Z
LAST-MODIFIED:20240510T075853Z
UID:3427-1715848200-1717072200@events.krdo.com
SUMMARY:Colorado Native Plant Master: Tunnel Drive in Canon City
DESCRIPTION:A three week series of classes on native plant identification in the field. We will identify 40-60 plants throughout the course.\n\n\nSchedule: May 16\, 23 and 30 from 8:30AM-12:30PM. Participants must attend all three classes for course completion. \nPark Description: Tunnel drive is a beautiful\, flat walk that parallels the Arkansas River. There is a vault toilet at the trailhead\, but no bathrooms beyond that. The trail is fairly flat and even after the first hill. \nWe will introduce you to 40-60 plants\, using family features and a botanical key to help identify species. Ecological relationships\, human connections and the potential to use some of these plants in your landscaping will be discussed. In addition\, we will emphasize understanding noxious alien plants and the challenge they present to our native environment. \nTrainers: \nIrene Shonle is the Horticulture Specialist for El Paso County\, and has taught Native Plant Master classes since 2003. She has a PhD in Ecology\, and has been with CSU Extension for 23 years. She is passionate about using native plants in the landscape\, and has a large native plant garden at her house. \nPrerequisite: A basic botany class is suggested for those who would like to refresh their botanical knowledge and is highly recommended for those who have minimal background. There will be two free Zoom classes taught by Lenore Mitchell covering Basic Botany and Plant Families\, offered by the Foothills to Plains NPM Program in April\, which you can register for at the link below\, to satisfy this requirement: \nBasic Botany-April 4\, from 4:00-7:00pm \nRegister in advance for this webinar: \nhttps://zoom.us/meeting/register/tJIkceGvqzgrGNOVvQVtx1oJ1tsnHRIa3YO1 \nPlant Families-April 11\, from 4:00-7:00pm \nRegister in advance for this webinar: \nhttps://zoom.us/meeting/register/tJEtcumgqjgjGtdTJfpz1P8dfZWSTiJJWiOj \nAfter registering\, you will receive a confirmation email containing information about joining the meeting. \nNative Plant Master: Participants who pass three NPM courses will receive a Native Plant Master Certificate. This 12 hour class fulfills 1/3 of the 36-hour coursework requirement towards certification as a Native Plant Master. Courses should be taken in different months and/or vegetation zones. Learn more here. \nRequired Textbook: Flora of Colorado by Jennifer Ackerfield. (The 2nd edition (2022) is preferred if you need to buy this book\, but the 1st edition (2015) is OK because students will be given a list of changes between the 1st and 2nd editions for plants studied during the course.) Available through the Colorado Native Plant Society bookstore (https://conps.org/conps-store)\, local and online retail outlets\, and the publisher (800-621-2736). \nWhen/Where to Meet: Meet at the vault toilets at the trailhead. Class will begin at 8:30am sharp. On the first day\, please arrive 15 minutes early. Google Maps pin: https://maps.app.goo.gl/iKgcEvvpNxckv97B7 \nWhat to Bring: Flora of Colorado by Jennifer Ackerfield; hand lens (10X or greater) available through https://conps.org/conps-store; daypack; bug spray; water; sack lunch; rain\, sun\, wind protection; personal restroom items. \nSpecial Instructions: Please come prepared for moderate walking on hot\, cold\, windy\, snowy or rainy days. Class will meet regardless of weather conditions. \nLocation Address: 205 Tunnel Drive\, Canon City CO\, 81212 \n \nContact Irene.shonle@colostate.edu with questions.
URL:https://events.krdo.com/event/colorado-native-plant-master-tunnel-drive-in-canon-city/
LOCATION:205 Tunnel Dr\, 205 Tunnel Drive\, Cañon City\, CO\, 81212\, United States
ATTACH;FMTTYPE=image/jpeg:https://events.krdo.com/wp-content/uploads/2024/03/4dca597fbd4c37d5f737eed6e267d491-esWAio.tmp_.jpg
END:VEVENT
BEGIN:VEVENT
DTSTART;TZID=America/Denver:20240518T090000
DTEND;TZID=America/Denver:20240518T180000
DTSTAMP:20260420T041717
CREATED:20240315T055812Z
LAST-MODIFIED:20240510T075853Z
UID:3429-1716022800-1716055200@events.krdo.com
SUMMARY:2024 Rendezvous on the Range Swine Show
DESCRIPTION:El Paso County 4-H Presents Rendezvous on the Range Swine Show\n\n\nSaturday May 18\, 2024 \n$30 Pre-Entry until May 15\, 2024 at 11:59 PM \n$45 Day of Show Entry $10 Showmanship Pay at the Gate (Cash ONLY) \nEl Paso County Fairgrounds \n366 10th Street Calhan\, Colorado 80808 \nShow begins at 9:00 AM \nWeights will be declared and slips must be turned in by 8:00 AM \nScale is available from 6:30-7:45 AM
URL:https://events.krdo.com/event/2024-rendezvous-on-the-range-swine-show/
LOCATION:El Paso County Fair and Events Complex\, 366 10th Street\, Calhan\, CO\, 80808\, United States
ATTACH;FMTTYPE=image/png:https://events.krdo.com/wp-content/uploads/2024/03/4ded0024c047144b2f073b4bc0b1afe2-3lA8dP.tmp_.png
END:VEVENT
END:VCALENDAR