BEGIN:VCALENDAR
VERSION:2.0
PRODID:-//KRDO13 Events - ECPv6.15.20//NONSGML v1.0//EN
CALSCALE:GREGORIAN
METHOD:PUBLISH
X-WR-CALNAME:KRDO13 Events
X-ORIGINAL-URL:https://events.krdo.com
X-WR-CALDESC:Events for KRDO13 Events
REFRESH-INTERVAL;VALUE=DURATION:PT1H
X-Robots-Tag:noindex
X-PUBLISHED-TTL:PT1H
BEGIN:VTIMEZONE
TZID:America/Denver
BEGIN:DAYLIGHT
TZOFFSETFROM:-0700
TZOFFSETTO:-0600
TZNAME:MDT
DTSTART:20210314T090000
END:DAYLIGHT
BEGIN:STANDARD
TZOFFSETFROM:-0600
TZOFFSETTO:-0700
TZNAME:MST
DTSTART:20211107T080000
END:STANDARD
BEGIN:DAYLIGHT
TZOFFSETFROM:-0700
TZOFFSETTO:-0600
TZNAME:MDT
DTSTART:20220313T090000
END:DAYLIGHT
BEGIN:STANDARD
TZOFFSETFROM:-0600
TZOFFSETTO:-0700
TZNAME:MST
DTSTART:20221106T080000
END:STANDARD
BEGIN:DAYLIGHT
TZOFFSETFROM:-0700
TZOFFSETTO:-0600
TZNAME:MDT
DTSTART:20230312T090000
END:DAYLIGHT
BEGIN:STANDARD
TZOFFSETFROM:-0600
TZOFFSETTO:-0700
TZNAME:MST
DTSTART:20231105T080000
END:STANDARD
BEGIN:DAYLIGHT
TZOFFSETFROM:-0700
TZOFFSETTO:-0600
TZNAME:MDT
DTSTART:20240310T090000
END:DAYLIGHT
BEGIN:STANDARD
TZOFFSETFROM:-0600
TZOFFSETTO:-0700
TZNAME:MST
DTSTART:20241103T080000
END:STANDARD
END:VTIMEZONE
BEGIN:VEVENT
DTSTART;VALUE=DATE:20221231
DTEND;VALUE=DATE:20240101
DTSTAMP:20260423T130524
CREATED:20220224T200647Z
LAST-MODIFIED:20221004T155130Z
UID:447-1672444800-1704067199@events.krdo.com
SUMMARY:2022 Law Enforcement Appreciation Day 1M 5K 10K 13.1 26.2-Save $2
DESCRIPTION:Honoring those who serve to protect\, we are hosting our seventh annual “Law Enforcement Appreciation Day” 1m\, 5K\, 10K\, 13.1\, and 26.2\n\n\n*SIGN UP NOW FOR $16 INSTEAD OF THE REGULAR $18! \nJoin our Facebook Community of more than 23\,000 members HERE!  \nHonoring those who serve to protect\, we are hosting our seventh annual “Law Enforcement Appreciation Day” 1m\, 5K\, 10K\, 13.1\, and 26.2 mile races. National Law Enforcement Appreciation Day is January 9th\, 2022 and we invite you to complete your race anytime in 2022! \nYou choose the time\, the course\, and the pace to complete your virtual race \nCan be completed any time in 2022! \nAt least 15% of race entry fees will be donated to Concerns of Police Survivors \nIn light of recent negativity directed toward law enforcement nationally\, there is now a need to show law enforcement officers that our citizens recognize the difficult and sometimes impossible career they have chosen in public service to us all. If you want to show support to law enforcement\, our virtual races are a great way to do so. With different race distances to choose from\, there is a way for everyone to support the authorities. Whether you choose to run or walk\, run outside or on a treadmill— the choice is yours! How do our virtual races benefit law enforcement? At least 15 percent of each entry fee will be donated to Concerns of Police Survivors\, an organization that partners with law enforcement and communities to help survivors and co-workers affected by line of duty deaths. \nRace entry fee: $18 (includes a medal\, bib\, and 15% donated to C.O.P.S.) \nThe “Law Enforcement Appreciation Day” race packages will start shipping out December 15th 2021\, after that they will ship out 2 to 5 days after signing up. \nWhat is a virtual race? A virtual race is a race that can be run (or walked) from any location you choose. You can run\, jog\, or walk on the road\, on the trail\, on the treadmill\, at the gym or on the track (or even at another race). You get to run your own race\, at your own pace\, and time it yourself. Running and walking on your own\, or with friends! And your medal will be shipped directly to you. Complete a virtual 5Ks\, 10K\, half marathon and more! Each of our races benefits a different charity. We’ve already raised more than $892\,045 for charities from running events on this website! We are making a difference…one race at a time.
URL:https://events.krdo.com/event/2022-law-enforcement-appreciation-day-1m-5k-10k-13-1-26-2-save-2/
LOCATION:Around the World!\, Participate from home!\, Denver\, CO\, 80201\, United States
CATEGORIES:Community
ATTACH;FMTTYPE=image/jpeg:https://events.krdo.com/wp-content/uploads/2022/02/afb8d8a2311a61911627e65ad7f4453b-x0NqHV.tmp_.jpg
END:VEVENT
BEGIN:VEVENT
DTSTART;TZID=America/Denver:20230123T133000
DTEND;TZID=America/Denver:20231231T040000
DTSTAMP:20260423T130524
CREATED:20230126T194025Z
LAST-MODIFIED:20231229T031830Z
UID:1392-1674480600-1703995200@events.krdo.com
SUMMARY:Food Safety Works - Food Service Certification-ONLINE
DESCRIPTION:REMINDER THIS IS NOT THE CERTIFICATION FOR COTTAGE FOODS TRAINING. This is for food service workers.\n\n\nREMINDER THIS IS NOT THE CERTIFICATION FOR COTTAGE FOODS TRAINING. This is for food service workers.  \nThe Food Safety Works safe food handler certificate training teaches entry-level food workers how to safely handle\, prepare and store food. This certification is taught online and is self-guided. Participants with a passing score receive a safe food handler certificate valid for 2 years. \nBenefits for Food Service Workers: \n\nIncrease in confidence and motivation to handle food safely.\nImprove knowledge and awareness of ways to prevent foodborne illness.\nValued by employers.\nGreat incentives towards job promotions.\nBenefits for your business.\nTake pride in being proactive in preventing foodborne illness.\nIncrease consumer confidence – show that you value safety.\nIncrease employee pride and teamwork in serving food.\nIncrease likelihood of improved inspections.\n\nRegistered participants will receive a confirmation email from Eventbrite immediately after registering which will have the website address and password to access the Food Safety Works Certification materials. You can download presentation slides\, watch training video\, and access link to exam. Once exam is completed and scored you will receive an email with your certificate valid for 2 years. \nRegistration is ongoing and class can be started and completed anytime. \nAdditional classes visit: https://epcextension.eventbrite.com/ \n \nColorado State University Extension is an equal opportunity provider: https://col.st/OWMJA \n \nColorado State University Extension es un proveedor que ofrece igualdad de oportunidades. https://col.st/0WMJA
URL:https://events.krdo.com/event/food-safety-works-food-service-certification-online/
ATTACH;FMTTYPE=image/jpeg:https://events.krdo.com/wp-content/uploads/2023/01/70c4086bb02cb0e9dd2b8d57ef68d66e-AaIdkq.tmp_.jpg
END:VEVENT
BEGIN:VEVENT
DTSTART;TZID=America/Denver:20230428T100000
DTEND;TZID=America/Denver:20230428T130000
DTSTAMP:20260423T130524
CREATED:20230406T202650Z
LAST-MODIFIED:20230427T204040Z
UID:1774-1682676000-1682686800@events.krdo.com
SUMMARY:Cleaning and Sanitizing Hands-on Workshop
DESCRIPTION:Learn the ins and outs of cleaning and sanitation on the farm\n\n\nCleaning and Sanitizing On The Farm Hands-on Workshop\nWe’ll provide all the supplies for you to mix\, stir\, scrub and spritz; giving you the opportunity to mix cleaners and sanitizers & handle different tools that will help you  discover the best practices for cleaning and sanitizing on your farm. \nProgram topics include: \n\nDetergents for cleaning food contact surfaces (why\, what\, and how)\nVerifying your cleaning practices\nChoosing and using a sanitizer (measuring\, mixing\, and monitoring)\nTools to support your sanitation program (discover which tools will make your cleaning more effective and efficient)\n\nClass Fee: $10 plus Eventbrite fees* \n\nRegistration deadline is 4:00 pm Thursday April 27\, 2023\nWorkshop location: Second Floor at 17 N. Spruce St. Colorado Springs\n\nIf you have any questions\, contact Michele.Ritchie@colostate.edu  \nThank you to Friends of Extension\, and the Colorado Produce Safety Collaborative for their kind support for this workshop\, allowing us to off-set some of the cost for the workshop.
URL:https://events.krdo.com/event/cleaning-and-sanitizing-hands-on-workshop/
LOCATION:Colorado State University Extension – El Paso County\, 17 N. Spruce Street\, Colorado Springs\, CO\, 80905\, United States
ATTACH;FMTTYPE=image/jpeg:https://events.krdo.com/wp-content/uploads/2023/04/e409ff02b36462acb804e25603b547a0-Uyzm3V.tmp_.jpg
END:VEVENT
BEGIN:VEVENT
DTSTART;TZID=America/Denver:20230428T160000
DTEND;TZID=America/Denver:20230428T173000
DTSTAMP:20260423T130524
CREATED:20230406T224221Z
LAST-MODIFIED:20230427T224017Z
UID:1778-1682697600-1682703000@events.krdo.com
SUMMARY:Bring on SPRING: Fresh Wreath Workshop
DESCRIPTION:Design a gorgeous handmade wreath to brighten your door and usher in SPRING!\n\n\nJ﻿oin Sweetwater to learn the fundamentals of wreath making. Each person will get a tutorial on the basics of building a wreath\, choosing your ingredients\, and design principles for knowing where to place each green and flower.  \nCost is $58/person \nWorkshop includes:  \n–  A Seat in our beautiful Sweetwater Studio \n– Personalized Instruction from our florist Erika \n– A wreath base made of willow branches \n–  A selection of foliage and flowers to fill your wreath.  \n– Choice of ribbon to tie onto your wreath \n– Tools and supplies for the class \n– A gorgeous wreath to take home and an unforgetable experience!  \n\n\nNo cancellations or refunds will be accepted but if you are unable to make it\, I will allow your spot to be transferred to someone else with 48 hrs notice. Thank you for your understanding.  \n \n\n\nI﻿nstructor Bio: Erika has been part of Sweetwater Flower Market from the beginning. She loves to make things beautiful and functional and is excited to share some of the tips of the floral trade with you so you can elevate your floral designs and home.
URL:https://events.krdo.com/event/bring-on-spring-fresh-wreath-workshop/
LOCATION:Sweetwater Studio\, 11663 Voyager Parkway\, Colorado Springs\, CO\, 80921\, United States
ATTACH;FMTTYPE=image/jpeg:https://events.krdo.com/wp-content/uploads/2023/04/57b8ee921faab47344a30abf23579fe5-GLwJFi.tmp_.jpg
END:VEVENT
END:VCALENDAR