BEGIN:VCALENDAR
VERSION:2.0
PRODID:-//KRDO13 Events - ECPv6.15.20//NONSGML v1.0//EN
CALSCALE:GREGORIAN
METHOD:PUBLISH
X-WR-CALNAME:KRDO13 Events
X-ORIGINAL-URL:https://events.krdo.com
X-WR-CALDESC:Events for KRDO13 Events
REFRESH-INTERVAL;VALUE=DURATION:PT1H
X-Robots-Tag:noindex
X-PUBLISHED-TTL:PT1H
BEGIN:VTIMEZONE
TZID:America/Los_Angeles
BEGIN:DAYLIGHT
TZOFFSETFROM:-0800
TZOFFSETTO:-0700
TZNAME:PDT
DTSTART:20210314T100000
END:DAYLIGHT
BEGIN:STANDARD
TZOFFSETFROM:-0700
TZOFFSETTO:-0800
TZNAME:PST
DTSTART:20211107T090000
END:STANDARD
BEGIN:DAYLIGHT
TZOFFSETFROM:-0800
TZOFFSETTO:-0700
TZNAME:PDT
DTSTART:20220313T100000
END:DAYLIGHT
BEGIN:STANDARD
TZOFFSETFROM:-0700
TZOFFSETTO:-0800
TZNAME:PST
DTSTART:20221106T090000
END:STANDARD
BEGIN:DAYLIGHT
TZOFFSETFROM:-0800
TZOFFSETTO:-0700
TZNAME:PDT
DTSTART:20230312T100000
END:DAYLIGHT
BEGIN:STANDARD
TZOFFSETFROM:-0700
TZOFFSETTO:-0800
TZNAME:PST
DTSTART:20231105T090000
END:STANDARD
END:VTIMEZONE
BEGIN:VEVENT
DTSTART;TZID=America/Los_Angeles:20221029T193000
DTEND;TZID=America/Los_Angeles:20221029T213000
DTSTAMP:20260423T083509
CREATED:20220919T224229Z
LAST-MODIFIED:20220919T224229Z
UID:813-1667071800-1667079000@events.krdo.com
SUMMARY:‘Prokofiev and Shostakovich’
DESCRIPTION:As a part of the El Pomar Foundation Masterworks series\, the Philharmonic presents ‘Prokofiev and Shostakovich’ in celebration of October is Arts Month. \nWe lend an ear to two Russian greats\, Sergei Prokofiev and Dmitri Shostakovich\, in two unforgettable performances. Prokofiev’s most emotional work is his Symphony No. 7\, which is followed by Shostakovich who brings the evening to a boisterous finale. Josep Caballé-Domenech will be conducting\, with Alexander Sitkovetsky on violin. \nTickets start at $28. Discounts available. \nKids get in free – “Free for Kids” offers young audiences an invitation to hear the Philharmonic perform live\, in a true concert setting. Admission for ages 7 to17 is complimentary\, and made possible\, in part\, by the support of GE Johnson Construction Company and annual gifts from other generous donors. \nHere’s how it works: For every adult ticket purchased at regular price\, the Philharmonic provides up to two “Free for Kids” tickets. To take advantage of this offer\, make your request in person at the Pikes Peak Center Box Office and our staff will happily handle the rest. \nJoin us for Colorado Springs Philharmonic Pre-Concert talks. Go behind the curtain and inside the score with these 30-minute pre-concert conversations featuring conductors and guest artists giving their take on the program. Talks begin one hour before performance time.
URL:https://events.krdo.com/event/prokofiev-and-shostakovich-2/2022-10-29/
LOCATION:Pikes Peak Center\, 190 S. Cascade Ave\, Colorado Springs\, 80903
CATEGORIES:Music
ATTACH;FMTTYPE=image/png:https://events.krdo.com/wp-content/uploads/2022/09/CSP_ProkofievShostakovich.png
ORGANIZER;CN="Colorado Springs Philharmonic":MAILTO:info@csphilharmonic.org
END:VEVENT
END:VCALENDAR